BEGIN:VCALENDAR
VERSION:2.0
PRODID:-//The Crossings Church Collinsville - ECPv6.15.20//NONSGML v1.0//EN
CALSCALE:GREGORIAN
METHOD:PUBLISH
X-ORIGINAL-URL:https://crossingscollinsville.com
X-WR-CALDESC:Events for The Crossings Church Collinsville
REFRESH-INTERVAL;VALUE=DURATION:PT1H
X-Robots-Tag:noindex
X-PUBLISHED-TTL:PT1H
BEGIN:VTIMEZONE
TZID:America/Chicago
BEGIN:DAYLIGHT
TZOFFSETFROM:-0600
TZOFFSETTO:-0500
TZNAME:CDT
DTSTART:20240310T080000
END:DAYLIGHT
BEGIN:STANDARD
TZOFFSETFROM:-0500
TZOFFSETTO:-0600
TZNAME:CST
DTSTART:20241103T070000
END:STANDARD
BEGIN:DAYLIGHT
TZOFFSETFROM:-0600
TZOFFSETTO:-0500
TZNAME:CDT
DTSTART:20250309T080000
END:DAYLIGHT
BEGIN:STANDARD
TZOFFSETFROM:-0500
TZOFFSETTO:-0600
TZNAME:CST
DTSTART:20251102T070000
END:STANDARD
BEGIN:DAYLIGHT
TZOFFSETFROM:-0600
TZOFFSETTO:-0500
TZNAME:CDT
DTSTART:20260308T080000
END:DAYLIGHT
BEGIN:STANDARD
TZOFFSETFROM:-0500
TZOFFSETTO:-0600
TZNAME:CST
DTSTART:20261101T070000
END:STANDARD
END:VTIMEZONE
BEGIN:VEVENT
DTSTART;VALUE=DATE:20250912
DTEND;VALUE=DATE:20250914
DTSTAMP:20260421T164446
CREATED:20250523T224445Z
LAST-MODIFIED:20250818T203231Z
UID:25556-1757635200-1757807999@crossingscollinsville.com
SUMMARY:Men's Camp Out
DESCRIPTION:MEN’S CAMP OUT\nMEN: The Men’s Camp Out is a great time away with friends. Bring your camping gear and join in for Camp Food\, Fellowship\, and Fun with your Friends from The Crossings.
URL:https://crossingscollinsville.com/event/mens-camp-out/
CATEGORIES:Mens' Ministry
ATTACH;FMTTYPE=image/png:https://crossingscollinsville.com/wp-content/uploads/2025/05/mens-camp-out-crossings-church-collinsville-il-scaled.png
ORGANIZER;CN="The Crossings Church Collinsville":MAILTO:admin@crossingscollinsville.com
END:VEVENT
END:VCALENDAR