BEGIN:VCALENDAR
VERSION:2.0
PRODID:-//The Crossings Church Collinsville - ECPv6.15.20//NONSGML v1.0//EN
CALSCALE:GREGORIAN
METHOD:PUBLISH
X-ORIGINAL-URL:https://crossingscollinsville.com
X-WR-CALDESC:Events for The Crossings Church Collinsville
REFRESH-INTERVAL;VALUE=DURATION:PT1H
X-Robots-Tag:noindex
X-PUBLISHED-TTL:PT1H
BEGIN:VTIMEZONE
TZID:America/Chicago
BEGIN:DAYLIGHT
TZOFFSETFROM:-0600
TZOFFSETTO:-0500
TZNAME:CDT
DTSTART:20240310T080000
END:DAYLIGHT
BEGIN:STANDARD
TZOFFSETFROM:-0500
TZOFFSETTO:-0600
TZNAME:CST
DTSTART:20241103T070000
END:STANDARD
BEGIN:DAYLIGHT
TZOFFSETFROM:-0600
TZOFFSETTO:-0500
TZNAME:CDT
DTSTART:20250309T080000
END:DAYLIGHT
BEGIN:STANDARD
TZOFFSETFROM:-0500
TZOFFSETTO:-0600
TZNAME:CST
DTSTART:20251102T070000
END:STANDARD
BEGIN:DAYLIGHT
TZOFFSETFROM:-0600
TZOFFSETTO:-0500
TZNAME:CDT
DTSTART:20260308T080000
END:DAYLIGHT
BEGIN:STANDARD
TZOFFSETFROM:-0500
TZOFFSETTO:-0600
TZNAME:CST
DTSTART:20261101T070000
END:STANDARD
BEGIN:DAYLIGHT
TZOFFSETFROM:-0600
TZOFFSETTO:-0500
TZNAME:CDT
DTSTART:20270314T080000
END:DAYLIGHT
BEGIN:STANDARD
TZOFFSETFROM:-0500
TZOFFSETTO:-0600
TZNAME:CST
DTSTART:20271107T070000
END:STANDARD
END:VTIMEZONE
BEGIN:VEVENT
DTSTART;TZID=America/Chicago:20250504T100000
DTEND;TZID=America/Chicago:20250504T113000
DTSTAMP:20260423T065609
CREATED:20250523T194530Z
LAST-MODIFIED:20250525T030201Z
UID:25523-1746352800-1746358200@crossingscollinsville.com
SUMMARY:Sunday Morning Church
DESCRIPTION:SUNDAY MORNINGS 10AM @ 2002 MALL STREET COLLINSVILLE IL\nThe Crossings Church Collinsville holds public worship services every Sunday starting at 10AM at 2002 Mall Street in Collinsville\, IL. \n\nCasual dress\nRelevant bible lessons\nChildren’s classes for 5th grade and under\n\nPlan your visit further. Visit our What to Expect page.
URL:https://crossingscollinsville.com/event/sunday-morning-church/
LOCATION:The Crossings Church Collinsville\, 2002 Mall St\, Collinsville\, IL\, 62234\, United States
CATEGORIES:Worship Service
ATTACH;FMTTYPE=image/png:https://crossingscollinsville.com/wp-content/uploads/2025/05/worship-header-scaled.png
ORGANIZER;CN="The Crossings Church Collinsville":MAILTO:admin@crossingscollinsville.com
END:VEVENT
BEGIN:VEVENT
DTSTART;TZID=America/Chicago:20250504T100000
DTEND;TZID=America/Chicago:20250504T113000
DTSTAMP:20260423T065609
CREATED:20250523T194530Z
LAST-MODIFIED:20250525T030201Z
UID:25523-1746352800-1746358200@crossingscollinsville.com
SUMMARY:Sunday Morning Church
DESCRIPTION:SUNDAY MORNINGS 10AM @ 2002 MALL STREET COLLINSVILLE IL\nThe Crossings Church Collinsville holds public worship services every Sunday starting at 10AM at 2002 Mall Street in Collinsville\, IL. \n\nCasual dress\nRelevant bible lessons\nChildren’s classes for 5th grade and under\n\nPlan your visit further. Visit our What to Expect page.
URL:https://crossingscollinsville.com/event/sunday-morning-church/
LOCATION:The Crossings Church Collinsville\, 2002 Mall St\, Collinsville\, IL\, 62234\, United States
CATEGORIES:Worship Service
ATTACH;FMTTYPE=image/png:https://crossingscollinsville.com/wp-content/uploads/2025/05/worship-header-scaled.png
ORGANIZER;CN="The Crossings Church Collinsville":MAILTO:admin@crossingscollinsville.com
END:VEVENT
BEGIN:VEVENT
DTSTART;TZID=America/Chicago:20250504T100000
DTEND;TZID=America/Chicago:20250504T113000
DTSTAMP:20260423T065609
CREATED:20250523T194530Z
LAST-MODIFIED:20250525T030201Z
UID:25523-1746352800-1746358200@crossingscollinsville.com
SUMMARY:Sunday Morning Church
DESCRIPTION:SUNDAY MORNINGS 10AM @ 2002 MALL STREET COLLINSVILLE IL\nThe Crossings Church Collinsville holds public worship services every Sunday starting at 10AM at 2002 Mall Street in Collinsville\, IL. \n\nCasual dress\nRelevant bible lessons\nChildren’s classes for 5th grade and under\n\nPlan your visit further. Visit our What to Expect page.
URL:https://crossingscollinsville.com/event/sunday-morning-church/
LOCATION:The Crossings Church Collinsville\, 2002 Mall St\, Collinsville\, IL\, 62234\, United States
CATEGORIES:Worship Service
ATTACH;FMTTYPE=image/png:https://crossingscollinsville.com/wp-content/uploads/2025/05/worship-header-scaled.png
ORGANIZER;CN="The Crossings Church Collinsville":MAILTO:admin@crossingscollinsville.com
END:VEVENT
BEGIN:VEVENT
DTSTART;TZID=America/Chicago:20250504T100000
DTEND;TZID=America/Chicago:20250504T113000
DTSTAMP:20260423T065609
CREATED:20250523T194530Z
LAST-MODIFIED:20250525T030201Z
UID:25523-1746352800-1746358200@crossingscollinsville.com
SUMMARY:Sunday Morning Church
DESCRIPTION:SUNDAY MORNINGS 10AM @ 2002 MALL STREET COLLINSVILLE IL\nThe Crossings Church Collinsville holds public worship services every Sunday starting at 10AM at 2002 Mall Street in Collinsville\, IL. \n\nCasual dress\nRelevant bible lessons\nChildren’s classes for 5th grade and under\n\nPlan your visit further. Visit our What to Expect page.
URL:https://crossingscollinsville.com/event/sunday-morning-church/
LOCATION:The Crossings Church Collinsville\, 2002 Mall St\, Collinsville\, IL\, 62234\, United States
CATEGORIES:Worship Service
ATTACH;FMTTYPE=image/png:https://crossingscollinsville.com/wp-content/uploads/2025/05/worship-header-scaled.png
ORGANIZER;CN="The Crossings Church Collinsville":MAILTO:admin@crossingscollinsville.com
END:VEVENT
BEGIN:VEVENT
DTSTART;TZID=America/Chicago:20250504T100000
DTEND;TZID=America/Chicago:20250504T113000
DTSTAMP:20260423T065609
CREATED:20250523T194530Z
LAST-MODIFIED:20250525T030201Z
UID:25523-1746352800-1746358200@crossingscollinsville.com
SUMMARY:Sunday Morning Church
DESCRIPTION:SUNDAY MORNINGS 10AM @ 2002 MALL STREET COLLINSVILLE IL\nThe Crossings Church Collinsville holds public worship services every Sunday starting at 10AM at 2002 Mall Street in Collinsville\, IL. \n\nCasual dress\nRelevant bible lessons\nChildren’s classes for 5th grade and under\n\nPlan your visit further. Visit our What to Expect page.
URL:https://crossingscollinsville.com/event/sunday-morning-church/
LOCATION:The Crossings Church Collinsville\, 2002 Mall St\, Collinsville\, IL\, 62234\, United States
CATEGORIES:Worship Service
ATTACH;FMTTYPE=image/png:https://crossingscollinsville.com/wp-content/uploads/2025/05/worship-header-scaled.png
ORGANIZER;CN="The Crossings Church Collinsville":MAILTO:admin@crossingscollinsville.com
END:VEVENT
BEGIN:VEVENT
DTSTART;TZID=America/Chicago:20250504T100000
DTEND;TZID=America/Chicago:20250504T113000
DTSTAMP:20260423T065609
CREATED:20250523T194530Z
LAST-MODIFIED:20250525T030201Z
UID:25523-1746352800-1746358200@crossingscollinsville.com
SUMMARY:Sunday Morning Church
DESCRIPTION:SUNDAY MORNINGS 10AM @ 2002 MALL STREET COLLINSVILLE IL\nThe Crossings Church Collinsville holds public worship services every Sunday starting at 10AM at 2002 Mall Street in Collinsville\, IL. \n\nCasual dress\nRelevant bible lessons\nChildren’s classes for 5th grade and under\n\nPlan your visit further. Visit our What to Expect page.
URL:https://crossingscollinsville.com/event/sunday-morning-church/
LOCATION:The Crossings Church Collinsville\, 2002 Mall St\, Collinsville\, IL\, 62234\, United States
CATEGORIES:Worship Service
ATTACH;FMTTYPE=image/png:https://crossingscollinsville.com/wp-content/uploads/2025/05/worship-header-scaled.png
ORGANIZER;CN="The Crossings Church Collinsville":MAILTO:admin@crossingscollinsville.com
END:VEVENT
BEGIN:VEVENT
DTSTART;TZID=America/Chicago:20250504T100000
DTEND;TZID=America/Chicago:20250504T113000
DTSTAMP:20260423T065609
CREATED:20250523T194530Z
LAST-MODIFIED:20250525T030201Z
UID:25523-1746352800-1746358200@crossingscollinsville.com
SUMMARY:Sunday Morning Church
DESCRIPTION:SUNDAY MORNINGS 10AM @ 2002 MALL STREET COLLINSVILLE IL\nThe Crossings Church Collinsville holds public worship services every Sunday starting at 10AM at 2002 Mall Street in Collinsville\, IL. \n\nCasual dress\nRelevant bible lessons\nChildren’s classes for 5th grade and under\n\nPlan your visit further. Visit our What to Expect page.
URL:https://crossingscollinsville.com/event/sunday-morning-church/
LOCATION:The Crossings Church Collinsville\, 2002 Mall St\, Collinsville\, IL\, 62234\, United States
CATEGORIES:Worship Service
ATTACH;FMTTYPE=image/png:https://crossingscollinsville.com/wp-content/uploads/2025/05/worship-header-scaled.png
ORGANIZER;CN="The Crossings Church Collinsville":MAILTO:admin@crossingscollinsville.com
END:VEVENT
BEGIN:VEVENT
DTSTART;TZID=America/Chicago:20250504T100000
DTEND;TZID=America/Chicago:20250504T113000
DTSTAMP:20260423T065609
CREATED:20250523T194530Z
LAST-MODIFIED:20250525T030201Z
UID:25523-1746352800-1746358200@crossingscollinsville.com
SUMMARY:Sunday Morning Church
DESCRIPTION:SUNDAY MORNINGS 10AM @ 2002 MALL STREET COLLINSVILLE IL\nThe Crossings Church Collinsville holds public worship services every Sunday starting at 10AM at 2002 Mall Street in Collinsville\, IL. \n\nCasual dress\nRelevant bible lessons\nChildren’s classes for 5th grade and under\n\nPlan your visit further. Visit our What to Expect page.
URL:https://crossingscollinsville.com/event/sunday-morning-church/
LOCATION:The Crossings Church Collinsville\, 2002 Mall St\, Collinsville\, IL\, 62234\, United States
CATEGORIES:Worship Service
ATTACH;FMTTYPE=image/png:https://crossingscollinsville.com/wp-content/uploads/2025/05/worship-header-scaled.png
ORGANIZER;CN="The Crossings Church Collinsville":MAILTO:admin@crossingscollinsville.com
END:VEVENT
BEGIN:VEVENT
DTSTART;TZID=America/Chicago:20250504T100000
DTEND;TZID=America/Chicago:20250504T113000
DTSTAMP:20260423T065609
CREATED:20250523T194530Z
LAST-MODIFIED:20250525T030201Z
UID:25523-1746352800-1746358200@crossingscollinsville.com
SUMMARY:Sunday Morning Church
DESCRIPTION:SUNDAY MORNINGS 10AM @ 2002 MALL STREET COLLINSVILLE IL\nThe Crossings Church Collinsville holds public worship services every Sunday starting at 10AM at 2002 Mall Street in Collinsville\, IL. \n\nCasual dress\nRelevant bible lessons\nChildren’s classes for 5th grade and under\n\nPlan your visit further. Visit our What to Expect page.
URL:https://crossingscollinsville.com/event/sunday-morning-church/
LOCATION:The Crossings Church Collinsville\, 2002 Mall St\, Collinsville\, IL\, 62234\, United States
CATEGORIES:Worship Service
ATTACH;FMTTYPE=image/png:https://crossingscollinsville.com/wp-content/uploads/2025/05/worship-header-scaled.png
ORGANIZER;CN="The Crossings Church Collinsville":MAILTO:admin@crossingscollinsville.com
END:VEVENT
BEGIN:VEVENT
DTSTART;TZID=America/Chicago:20250504T100000
DTEND;TZID=America/Chicago:20250504T113000
DTSTAMP:20260423T065609
CREATED:20250523T194530Z
LAST-MODIFIED:20250525T030201Z
UID:25523-1746352800-1746358200@crossingscollinsville.com
SUMMARY:Sunday Morning Church
DESCRIPTION:SUNDAY MORNINGS 10AM @ 2002 MALL STREET COLLINSVILLE IL\nThe Crossings Church Collinsville holds public worship services every Sunday starting at 10AM at 2002 Mall Street in Collinsville\, IL. \n\nCasual dress\nRelevant bible lessons\nChildren’s classes for 5th grade and under\n\nPlan your visit further. Visit our What to Expect page.
URL:https://crossingscollinsville.com/event/sunday-morning-church/
LOCATION:The Crossings Church Collinsville\, 2002 Mall St\, Collinsville\, IL\, 62234\, United States
CATEGORIES:Worship Service
ATTACH;FMTTYPE=image/png:https://crossingscollinsville.com/wp-content/uploads/2025/05/worship-header-scaled.png
ORGANIZER;CN="The Crossings Church Collinsville":MAILTO:admin@crossingscollinsville.com
END:VEVENT
BEGIN:VEVENT
DTSTART;TZID=America/Chicago:20250504T100000
DTEND;TZID=America/Chicago:20250504T113000
DTSTAMP:20260423T065609
CREATED:20250523T194530Z
LAST-MODIFIED:20250525T030201Z
UID:25523-1746352800-1746358200@crossingscollinsville.com
SUMMARY:Sunday Morning Church
DESCRIPTION:SUNDAY MORNINGS 10AM @ 2002 MALL STREET COLLINSVILLE IL\nThe Crossings Church Collinsville holds public worship services every Sunday starting at 10AM at 2002 Mall Street in Collinsville\, IL. \n\nCasual dress\nRelevant bible lessons\nChildren’s classes for 5th grade and under\n\nPlan your visit further. Visit our What to Expect page.
URL:https://crossingscollinsville.com/event/sunday-morning-church/
LOCATION:The Crossings Church Collinsville\, 2002 Mall St\, Collinsville\, IL\, 62234\, United States
CATEGORIES:Worship Service
ATTACH;FMTTYPE=image/png:https://crossingscollinsville.com/wp-content/uploads/2025/05/worship-header-scaled.png
ORGANIZER;CN="The Crossings Church Collinsville":MAILTO:admin@crossingscollinsville.com
END:VEVENT
BEGIN:VEVENT
DTSTART;TZID=America/Chicago:20250504T100000
DTEND;TZID=America/Chicago:20250504T113000
DTSTAMP:20260423T065609
CREATED:20250523T194530Z
LAST-MODIFIED:20250525T030201Z
UID:25523-1746352800-1746358200@crossingscollinsville.com
SUMMARY:Sunday Morning Church
DESCRIPTION:SUNDAY MORNINGS 10AM @ 2002 MALL STREET COLLINSVILLE IL\nThe Crossings Church Collinsville holds public worship services every Sunday starting at 10AM at 2002 Mall Street in Collinsville\, IL. \n\nCasual dress\nRelevant bible lessons\nChildren’s classes for 5th grade and under\n\nPlan your visit further. Visit our What to Expect page.
URL:https://crossingscollinsville.com/event/sunday-morning-church/
LOCATION:The Crossings Church Collinsville\, 2002 Mall St\, Collinsville\, IL\, 62234\, United States
CATEGORIES:Worship Service
ATTACH;FMTTYPE=image/png:https://crossingscollinsville.com/wp-content/uploads/2025/05/worship-header-scaled.png
ORGANIZER;CN="The Crossings Church Collinsville":MAILTO:admin@crossingscollinsville.com
END:VEVENT
BEGIN:VEVENT
DTSTART;TZID=America/Chicago:20250504T100000
DTEND;TZID=America/Chicago:20250504T113000
DTSTAMP:20260423T065609
CREATED:20250523T194530Z
LAST-MODIFIED:20250525T030201Z
UID:25523-1746352800-1746358200@crossingscollinsville.com
SUMMARY:Sunday Morning Church
DESCRIPTION:SUNDAY MORNINGS 10AM @ 2002 MALL STREET COLLINSVILLE IL\nThe Crossings Church Collinsville holds public worship services every Sunday starting at 10AM at 2002 Mall Street in Collinsville\, IL. \n\nCasual dress\nRelevant bible lessons\nChildren’s classes for 5th grade and under\n\nPlan your visit further. Visit our What to Expect page.
URL:https://crossingscollinsville.com/event/sunday-morning-church/
LOCATION:The Crossings Church Collinsville\, 2002 Mall St\, Collinsville\, IL\, 62234\, United States
CATEGORIES:Worship Service
ATTACH;FMTTYPE=image/png:https://crossingscollinsville.com/wp-content/uploads/2025/05/worship-header-scaled.png
ORGANIZER;CN="The Crossings Church Collinsville":MAILTO:admin@crossingscollinsville.com
END:VEVENT
BEGIN:VEVENT
DTSTART;TZID=America/Chicago:20250504T100000
DTEND;TZID=America/Chicago:20250504T113000
DTSTAMP:20260423T065609
CREATED:20250523T194530Z
LAST-MODIFIED:20250525T030201Z
UID:25523-1746352800-1746358200@crossingscollinsville.com
SUMMARY:Sunday Morning Church
DESCRIPTION:SUNDAY MORNINGS 10AM @ 2002 MALL STREET COLLINSVILLE IL\nThe Crossings Church Collinsville holds public worship services every Sunday starting at 10AM at 2002 Mall Street in Collinsville\, IL. \n\nCasual dress\nRelevant bible lessons\nChildren’s classes for 5th grade and under\n\nPlan your visit further. Visit our What to Expect page.
URL:https://crossingscollinsville.com/event/sunday-morning-church/
LOCATION:The Crossings Church Collinsville\, 2002 Mall St\, Collinsville\, IL\, 62234\, United States
CATEGORIES:Worship Service
ATTACH;FMTTYPE=image/png:https://crossingscollinsville.com/wp-content/uploads/2025/05/worship-header-scaled.png
ORGANIZER;CN="The Crossings Church Collinsville":MAILTO:admin@crossingscollinsville.com
END:VEVENT
BEGIN:VEVENT
DTSTART;TZID=America/Chicago:20250504T100000
DTEND;TZID=America/Chicago:20250504T113000
DTSTAMP:20260423T065609
CREATED:20250523T194530Z
LAST-MODIFIED:20250525T030201Z
UID:25523-1746352800-1746358200@crossingscollinsville.com
SUMMARY:Sunday Morning Church
DESCRIPTION:SUNDAY MORNINGS 10AM @ 2002 MALL STREET COLLINSVILLE IL\nThe Crossings Church Collinsville holds public worship services every Sunday starting at 10AM at 2002 Mall Street in Collinsville\, IL. \n\nCasual dress\nRelevant bible lessons\nChildren’s classes for 5th grade and under\n\nPlan your visit further. Visit our What to Expect page.
URL:https://crossingscollinsville.com/event/sunday-morning-church/
LOCATION:The Crossings Church Collinsville\, 2002 Mall St\, Collinsville\, IL\, 62234\, United States
CATEGORIES:Worship Service
ATTACH;FMTTYPE=image/png:https://crossingscollinsville.com/wp-content/uploads/2025/05/worship-header-scaled.png
ORGANIZER;CN="The Crossings Church Collinsville":MAILTO:admin@crossingscollinsville.com
END:VEVENT
BEGIN:VEVENT
DTSTART;TZID=America/Chicago:20250504T100000
DTEND;TZID=America/Chicago:20250504T113000
DTSTAMP:20260423T065609
CREATED:20250523T194530Z
LAST-MODIFIED:20250525T030201Z
UID:25523-1746352800-1746358200@crossingscollinsville.com
SUMMARY:Sunday Morning Church
DESCRIPTION:SUNDAY MORNINGS 10AM @ 2002 MALL STREET COLLINSVILLE IL\nThe Crossings Church Collinsville holds public worship services every Sunday starting at 10AM at 2002 Mall Street in Collinsville\, IL. \n\nCasual dress\nRelevant bible lessons\nChildren’s classes for 5th grade and under\n\nPlan your visit further. Visit our What to Expect page.
URL:https://crossingscollinsville.com/event/sunday-morning-church/
LOCATION:The Crossings Church Collinsville\, 2002 Mall St\, Collinsville\, IL\, 62234\, United States
CATEGORIES:Worship Service
ATTACH;FMTTYPE=image/png:https://crossingscollinsville.com/wp-content/uploads/2025/05/worship-header-scaled.png
ORGANIZER;CN="The Crossings Church Collinsville":MAILTO:admin@crossingscollinsville.com
END:VEVENT
BEGIN:VEVENT
DTSTART;TZID=America/Chicago:20250504T100000
DTEND;TZID=America/Chicago:20250504T113000
DTSTAMP:20260423T065609
CREATED:20250523T194530Z
LAST-MODIFIED:20250525T030201Z
UID:25523-1746352800-1746358200@crossingscollinsville.com
SUMMARY:Sunday Morning Church
DESCRIPTION:SUNDAY MORNINGS 10AM @ 2002 MALL STREET COLLINSVILLE IL\nThe Crossings Church Collinsville holds public worship services every Sunday starting at 10AM at 2002 Mall Street in Collinsville\, IL. \n\nCasual dress\nRelevant bible lessons\nChildren’s classes for 5th grade and under\n\nPlan your visit further. Visit our What to Expect page.
URL:https://crossingscollinsville.com/event/sunday-morning-church/
LOCATION:The Crossings Church Collinsville\, 2002 Mall St\, Collinsville\, IL\, 62234\, United States
CATEGORIES:Worship Service
ATTACH;FMTTYPE=image/png:https://crossingscollinsville.com/wp-content/uploads/2025/05/worship-header-scaled.png
ORGANIZER;CN="The Crossings Church Collinsville":MAILTO:admin@crossingscollinsville.com
END:VEVENT
BEGIN:VEVENT
DTSTART;TZID=America/Chicago:20250504T100000
DTEND;TZID=America/Chicago:20250504T113000
DTSTAMP:20260423T065609
CREATED:20250523T194530Z
LAST-MODIFIED:20250525T030201Z
UID:25523-1746352800-1746358200@crossingscollinsville.com
SUMMARY:Sunday Morning Church
DESCRIPTION:SUNDAY MORNINGS 10AM @ 2002 MALL STREET COLLINSVILLE IL\nThe Crossings Church Collinsville holds public worship services every Sunday starting at 10AM at 2002 Mall Street in Collinsville\, IL. \n\nCasual dress\nRelevant bible lessons\nChildren’s classes for 5th grade and under\n\nPlan your visit further. Visit our What to Expect page.
URL:https://crossingscollinsville.com/event/sunday-morning-church/
LOCATION:The Crossings Church Collinsville\, 2002 Mall St\, Collinsville\, IL\, 62234\, United States
CATEGORIES:Worship Service
ATTACH;FMTTYPE=image/png:https://crossingscollinsville.com/wp-content/uploads/2025/05/worship-header-scaled.png
ORGANIZER;CN="The Crossings Church Collinsville":MAILTO:admin@crossingscollinsville.com
END:VEVENT
BEGIN:VEVENT
DTSTART;TZID=America/Chicago:20250504T100000
DTEND;TZID=America/Chicago:20250504T113000
DTSTAMP:20260423T065609
CREATED:20250523T194530Z
LAST-MODIFIED:20250525T030201Z
UID:25523-1746352800-1746358200@crossingscollinsville.com
SUMMARY:Sunday Morning Church
DESCRIPTION:SUNDAY MORNINGS 10AM @ 2002 MALL STREET COLLINSVILLE IL\nThe Crossings Church Collinsville holds public worship services every Sunday starting at 10AM at 2002 Mall Street in Collinsville\, IL. \n\nCasual dress\nRelevant bible lessons\nChildren’s classes for 5th grade and under\n\nPlan your visit further. Visit our What to Expect page.
URL:https://crossingscollinsville.com/event/sunday-morning-church/
LOCATION:The Crossings Church Collinsville\, 2002 Mall St\, Collinsville\, IL\, 62234\, United States
CATEGORIES:Worship Service
ATTACH;FMTTYPE=image/png:https://crossingscollinsville.com/wp-content/uploads/2025/05/worship-header-scaled.png
ORGANIZER;CN="The Crossings Church Collinsville":MAILTO:admin@crossingscollinsville.com
END:VEVENT
BEGIN:VEVENT
DTSTART;TZID=America/Chicago:20260421T080000
DTEND;TZID=America/Chicago:20260422T170000
DTSTAMP:20260423T065609
CREATED:20260412T223334Z
LAST-MODIFIED:20260412T223334Z
UID:25902-1776758400-1776877200@crossingscollinsville.com
SUMMARY:Renew Conference
DESCRIPTION:
URL:https://crossingscollinsville.com/event/renew-conference/
LOCATION:The Crossings Church St. Charles County\, 1147 Tom Ginnever Ave\, O'Fallon\, MO\, 66633\, United States
END:VEVENT
BEGIN:VEVENT
DTSTART;TZID=America/Chicago:20250504T100000
DTEND;TZID=America/Chicago:20250504T113000
DTSTAMP:20260423T065609
CREATED:20250523T194530Z
LAST-MODIFIED:20250525T030201Z
UID:25523-1746352800-1746358200@crossingscollinsville.com
SUMMARY:Sunday Morning Church
DESCRIPTION:SUNDAY MORNINGS 10AM @ 2002 MALL STREET COLLINSVILLE IL\nThe Crossings Church Collinsville holds public worship services every Sunday starting at 10AM at 2002 Mall Street in Collinsville\, IL. \n\nCasual dress\nRelevant bible lessons\nChildren’s classes for 5th grade and under\n\nPlan your visit further. Visit our What to Expect page.
URL:https://crossingscollinsville.com/event/sunday-morning-church/
LOCATION:The Crossings Church Collinsville\, 2002 Mall St\, Collinsville\, IL\, 62234\, United States
CATEGORIES:Worship Service
ATTACH;FMTTYPE=image/png:https://crossingscollinsville.com/wp-content/uploads/2025/05/worship-header-scaled.png
ORGANIZER;CN="The Crossings Church Collinsville":MAILTO:admin@crossingscollinsville.com
END:VEVENT
BEGIN:VEVENT
DTSTART;TZID=America/Chicago:20260501T080000
DTEND;TZID=America/Chicago:20260502T170000
DTSTAMP:20260423T065609
CREATED:20260419T233750Z
LAST-MODIFIED:20260419T233750Z
UID:25905-1777622400-1777741200@crossingscollinsville.com
SUMMARY:Men's Retreat
DESCRIPTION:
URL:https://crossingscollinsville.com/event/mens-retreat/
LOCATION:IL
CATEGORIES:Mens' Ministry,Retreat
ORGANIZER;CN="The Crossings Church Collinsville":MAILTO:admin@crossingscollinsville.com
END:VEVENT
BEGIN:VEVENT
DTSTART;TZID=America/Chicago:20250504T100000
DTEND;TZID=America/Chicago:20250504T113000
DTSTAMP:20260423T065609
CREATED:20250523T194530Z
LAST-MODIFIED:20250525T030201Z
UID:25523-1746352800-1746358200@crossingscollinsville.com
SUMMARY:Sunday Morning Church
DESCRIPTION:SUNDAY MORNINGS 10AM @ 2002 MALL STREET COLLINSVILLE IL\nThe Crossings Church Collinsville holds public worship services every Sunday starting at 10AM at 2002 Mall Street in Collinsville\, IL. \n\nCasual dress\nRelevant bible lessons\nChildren’s classes for 5th grade and under\n\nPlan your visit further. Visit our What to Expect page.
URL:https://crossingscollinsville.com/event/sunday-morning-church/
LOCATION:The Crossings Church Collinsville\, 2002 Mall St\, Collinsville\, IL\, 62234\, United States
CATEGORIES:Worship Service
ATTACH;FMTTYPE=image/png:https://crossingscollinsville.com/wp-content/uploads/2025/05/worship-header-scaled.png
ORGANIZER;CN="The Crossings Church Collinsville":MAILTO:admin@crossingscollinsville.com
END:VEVENT
BEGIN:VEVENT
DTSTART;TZID=America/Chicago:20250504T100000
DTEND;TZID=America/Chicago:20250504T113000
DTSTAMP:20260423T065609
CREATED:20250523T194530Z
LAST-MODIFIED:20250525T030201Z
UID:25523-1746352800-1746358200@crossingscollinsville.com
SUMMARY:Sunday Morning Church
DESCRIPTION:SUNDAY MORNINGS 10AM @ 2002 MALL STREET COLLINSVILLE IL\nThe Crossings Church Collinsville holds public worship services every Sunday starting at 10AM at 2002 Mall Street in Collinsville\, IL. \n\nCasual dress\nRelevant bible lessons\nChildren’s classes for 5th grade and under\n\nPlan your visit further. Visit our What to Expect page.
URL:https://crossingscollinsville.com/event/sunday-morning-church/
LOCATION:The Crossings Church Collinsville\, 2002 Mall St\, Collinsville\, IL\, 62234\, United States
CATEGORIES:Worship Service
ATTACH;FMTTYPE=image/png:https://crossingscollinsville.com/wp-content/uploads/2025/05/worship-header-scaled.png
ORGANIZER;CN="The Crossings Church Collinsville":MAILTO:admin@crossingscollinsville.com
END:VEVENT
BEGIN:VEVENT
DTSTART;TZID=America/Chicago:20260510T100000
DTEND;TZID=America/Chicago:20260510T120000
DTSTAMP:20260423T065609
CREATED:20260419T232414Z
LAST-MODIFIED:20260419T232414Z
UID:25907-1778407200-1778414400@crossingscollinsville.com
SUMMARY:Mother's Day Service
DESCRIPTION:Enjoy a Sunday service accompanied with a special gift for the mothers!
URL:https://crossingscollinsville.com/event/mothers-day-service/
LOCATION:IL
CATEGORIES:Community Event,Family Event,Sunday Service,Womens' Ministry
END:VEVENT
BEGIN:VEVENT
DTSTART;TZID=America/Chicago:20250504T100000
DTEND;TZID=America/Chicago:20250504T113000
DTSTAMP:20260423T065609
CREATED:20250523T194530Z
LAST-MODIFIED:20250525T030201Z
UID:25523-1746352800-1746358200@crossingscollinsville.com
SUMMARY:Sunday Morning Church
DESCRIPTION:SUNDAY MORNINGS 10AM @ 2002 MALL STREET COLLINSVILLE IL\nThe Crossings Church Collinsville holds public worship services every Sunday starting at 10AM at 2002 Mall Street in Collinsville\, IL. \n\nCasual dress\nRelevant bible lessons\nChildren’s classes for 5th grade and under\n\nPlan your visit further. Visit our What to Expect page.
URL:https://crossingscollinsville.com/event/sunday-morning-church/
LOCATION:The Crossings Church Collinsville\, 2002 Mall St\, Collinsville\, IL\, 62234\, United States
CATEGORIES:Worship Service
ATTACH;FMTTYPE=image/png:https://crossingscollinsville.com/wp-content/uploads/2025/05/worship-header-scaled.png
ORGANIZER;CN="The Crossings Church Collinsville":MAILTO:admin@crossingscollinsville.com
END:VEVENT
BEGIN:VEVENT
DTSTART;TZID=America/Chicago:20250504T100000
DTEND;TZID=America/Chicago:20250504T113000
DTSTAMP:20260423T065609
CREATED:20250523T194530Z
LAST-MODIFIED:20250525T030201Z
UID:25523-1746352800-1746358200@crossingscollinsville.com
SUMMARY:Sunday Morning Church
DESCRIPTION:SUNDAY MORNINGS 10AM @ 2002 MALL STREET COLLINSVILLE IL\nThe Crossings Church Collinsville holds public worship services every Sunday starting at 10AM at 2002 Mall Street in Collinsville\, IL. \n\nCasual dress\nRelevant bible lessons\nChildren’s classes for 5th grade and under\n\nPlan your visit further. Visit our What to Expect page.
URL:https://crossingscollinsville.com/event/sunday-morning-church/
LOCATION:The Crossings Church Collinsville\, 2002 Mall St\, Collinsville\, IL\, 62234\, United States
CATEGORIES:Worship Service
ATTACH;FMTTYPE=image/png:https://crossingscollinsville.com/wp-content/uploads/2025/05/worship-header-scaled.png
ORGANIZER;CN="The Crossings Church Collinsville":MAILTO:admin@crossingscollinsville.com
END:VEVENT
BEGIN:VEVENT
DTSTART;TZID=America/Chicago:20260530T090000
DTEND;TZID=America/Chicago:20260530T140000
DTSTAMP:20260423T065609
CREATED:20260419T232413Z
LAST-MODIFIED:20260419T232413Z
UID:25909-1780131600-1780149600@crossingscollinsville.com
SUMMARY:Membership 101
DESCRIPTION:
URL:https://crossingscollinsville.com/event/membership-101-5/
LOCATION:IL
CATEGORIES:Community Event
END:VEVENT
BEGIN:VEVENT
DTSTART;TZID=America/Chicago:20250504T100000
DTEND;TZID=America/Chicago:20250504T113000
DTSTAMP:20260423T065609
CREATED:20250523T194530Z
LAST-MODIFIED:20250525T030201Z
UID:25523-1746352800-1746358200@crossingscollinsville.com
SUMMARY:Sunday Morning Church
DESCRIPTION:SUNDAY MORNINGS 10AM @ 2002 MALL STREET COLLINSVILLE IL\nThe Crossings Church Collinsville holds public worship services every Sunday starting at 10AM at 2002 Mall Street in Collinsville\, IL. \n\nCasual dress\nRelevant bible lessons\nChildren’s classes for 5th grade and under\n\nPlan your visit further. Visit our What to Expect page.
URL:https://crossingscollinsville.com/event/sunday-morning-church/
LOCATION:The Crossings Church Collinsville\, 2002 Mall St\, Collinsville\, IL\, 62234\, United States
CATEGORIES:Worship Service
ATTACH;FMTTYPE=image/png:https://crossingscollinsville.com/wp-content/uploads/2025/05/worship-header-scaled.png
ORGANIZER;CN="The Crossings Church Collinsville":MAILTO:admin@crossingscollinsville.com
END:VEVENT
BEGIN:VEVENT
DTSTART;TZID=America/Chicago:20260601T080000
DTEND;TZID=America/Chicago:20260604T170000
DTSTAMP:20260423T065609
CREATED:20260419T232413Z
LAST-MODIFIED:20260419T232413Z
UID:25911-1780300800-1780592400@crossingscollinsville.com
SUMMARY:Vacation Bible School
DESCRIPTION:
URL:https://crossingscollinsville.com/event/vacation-bible-school/
LOCATION:IL
CATEGORIES:Children's Ministry,Family Event,Volunteer Opportunity
END:VEVENT
END:VCALENDAR