BEGIN:VCALENDAR
VERSION:2.0
PRODID:-//The Crossings Church Collinsville - ECPv6.15.20//NONSGML v1.0//EN
CALSCALE:GREGORIAN
METHOD:PUBLISH
X-WR-CALNAME:The Crossings Church Collinsville
X-ORIGINAL-URL:https://crossingscollinsville.com
X-WR-CALDESC:Events for The Crossings Church Collinsville
REFRESH-INTERVAL;VALUE=DURATION:PT1H
X-Robots-Tag:noindex
X-PUBLISHED-TTL:PT1H
BEGIN:VTIMEZONE
TZID:America/Chicago
BEGIN:DAYLIGHT
TZOFFSETFROM:-0600
TZOFFSETTO:-0500
TZNAME:CDT
DTSTART:20240310T080000
END:DAYLIGHT
BEGIN:STANDARD
TZOFFSETFROM:-0500
TZOFFSETTO:-0600
TZNAME:CST
DTSTART:20241103T070000
END:STANDARD
BEGIN:DAYLIGHT
TZOFFSETFROM:-0600
TZOFFSETTO:-0500
TZNAME:CDT
DTSTART:20250309T080000
END:DAYLIGHT
BEGIN:STANDARD
TZOFFSETFROM:-0500
TZOFFSETTO:-0600
TZNAME:CST
DTSTART:20251102T070000
END:STANDARD
BEGIN:DAYLIGHT
TZOFFSETFROM:-0600
TZOFFSETTO:-0500
TZNAME:CDT
DTSTART:20260308T080000
END:DAYLIGHT
BEGIN:STANDARD
TZOFFSETFROM:-0500
TZOFFSETTO:-0600
TZNAME:CST
DTSTART:20261101T070000
END:STANDARD
BEGIN:DAYLIGHT
TZOFFSETFROM:-0600
TZOFFSETTO:-0500
TZNAME:CDT
DTSTART:20270314T080000
END:DAYLIGHT
BEGIN:STANDARD
TZOFFSETFROM:-0500
TZOFFSETTO:-0600
TZNAME:CST
DTSTART:20271107T070000
END:STANDARD
END:VTIMEZONE
BEGIN:VEVENT
DTSTART;TZID=America/Chicago:20250504T100000
DTEND;TZID=America/Chicago:20250504T113000
DTSTAMP:20260421T115300
CREATED:20250523T194530Z
LAST-MODIFIED:20250525T030201Z
UID:25523-1746352800-1746358200@crossingscollinsville.com
SUMMARY:Sunday Morning Church
DESCRIPTION:SUNDAY MORNINGS 10AM @ 2002 MALL STREET COLLINSVILLE IL\nThe Crossings Church Collinsville holds public worship services every Sunday starting at 10AM at 2002 Mall Street in Collinsville\, IL. \n\nCasual dress\nRelevant bible lessons\nChildren’s classes for 5th grade and under\n\nPlan your visit further. Visit our What to Expect page.
URL:https://crossingscollinsville.com/event/sunday-morning-church/
LOCATION:The Crossings Church Collinsville\, 2002 Mall St\, Collinsville\, IL\, 62234\, United States
CATEGORIES:Worship Service
ATTACH;FMTTYPE=image/png:https://crossingscollinsville.com/wp-content/uploads/2025/05/worship-header-scaled.png
ORGANIZER;CN="The Crossings Church Collinsville":MAILTO:admin@crossingscollinsville.com
END:VEVENT
BEGIN:VEVENT
DTSTART;TZID=America/Chicago:20250504T100000
DTEND;TZID=America/Chicago:20250504T113000
DTSTAMP:20260421T115300
CREATED:20250523T194530Z
LAST-MODIFIED:20250525T030201Z
UID:25523-1746352800-1746358200@crossingscollinsville.com
SUMMARY:Sunday Morning Church
DESCRIPTION:SUNDAY MORNINGS 10AM @ 2002 MALL STREET COLLINSVILLE IL\nThe Crossings Church Collinsville holds public worship services every Sunday starting at 10AM at 2002 Mall Street in Collinsville\, IL. \n\nCasual dress\nRelevant bible lessons\nChildren’s classes for 5th grade and under\n\nPlan your visit further. Visit our What to Expect page.
URL:https://crossingscollinsville.com/event/sunday-morning-church/
LOCATION:The Crossings Church Collinsville\, 2002 Mall St\, Collinsville\, IL\, 62234\, United States
CATEGORIES:Worship Service
ATTACH;FMTTYPE=image/png:https://crossingscollinsville.com/wp-content/uploads/2025/05/worship-header-scaled.png
ORGANIZER;CN="The Crossings Church Collinsville":MAILTO:admin@crossingscollinsville.com
END:VEVENT
BEGIN:VEVENT
DTSTART;TZID=America/Chicago:20250504T100000
DTEND;TZID=America/Chicago:20250504T113000
DTSTAMP:20260421T115300
CREATED:20250523T194530Z
LAST-MODIFIED:20250525T030201Z
UID:25523-1746352800-1746358200@crossingscollinsville.com
SUMMARY:Sunday Morning Church
DESCRIPTION:SUNDAY MORNINGS 10AM @ 2002 MALL STREET COLLINSVILLE IL\nThe Crossings Church Collinsville holds public worship services every Sunday starting at 10AM at 2002 Mall Street in Collinsville\, IL. \n\nCasual dress\nRelevant bible lessons\nChildren’s classes for 5th grade and under\n\nPlan your visit further. Visit our What to Expect page.
URL:https://crossingscollinsville.com/event/sunday-morning-church/
LOCATION:The Crossings Church Collinsville\, 2002 Mall St\, Collinsville\, IL\, 62234\, United States
CATEGORIES:Worship Service
ATTACH;FMTTYPE=image/png:https://crossingscollinsville.com/wp-content/uploads/2025/05/worship-header-scaled.png
ORGANIZER;CN="The Crossings Church Collinsville":MAILTO:admin@crossingscollinsville.com
END:VEVENT
BEGIN:VEVENT
DTSTART;TZID=America/Chicago:20250504T100000
DTEND;TZID=America/Chicago:20250504T113000
DTSTAMP:20260421T115300
CREATED:20250523T194530Z
LAST-MODIFIED:20250525T030201Z
UID:25523-1746352800-1746358200@crossingscollinsville.com
SUMMARY:Sunday Morning Church
DESCRIPTION:SUNDAY MORNINGS 10AM @ 2002 MALL STREET COLLINSVILLE IL\nThe Crossings Church Collinsville holds public worship services every Sunday starting at 10AM at 2002 Mall Street in Collinsville\, IL. \n\nCasual dress\nRelevant bible lessons\nChildren’s classes for 5th grade and under\n\nPlan your visit further. Visit our What to Expect page.
URL:https://crossingscollinsville.com/event/sunday-morning-church/
LOCATION:The Crossings Church Collinsville\, 2002 Mall St\, Collinsville\, IL\, 62234\, United States
CATEGORIES:Worship Service
ATTACH;FMTTYPE=image/png:https://crossingscollinsville.com/wp-content/uploads/2025/05/worship-header-scaled.png
ORGANIZER;CN="The Crossings Church Collinsville":MAILTO:admin@crossingscollinsville.com
END:VEVENT
BEGIN:VEVENT
DTSTART;TZID=America/Chicago:20250504T100000
DTEND;TZID=America/Chicago:20250504T113000
DTSTAMP:20260421T115300
CREATED:20250523T194530Z
LAST-MODIFIED:20250525T030201Z
UID:25523-1746352800-1746358200@crossingscollinsville.com
SUMMARY:Sunday Morning Church
DESCRIPTION:SUNDAY MORNINGS 10AM @ 2002 MALL STREET COLLINSVILLE IL\nThe Crossings Church Collinsville holds public worship services every Sunday starting at 10AM at 2002 Mall Street in Collinsville\, IL. \n\nCasual dress\nRelevant bible lessons\nChildren’s classes for 5th grade and under\n\nPlan your visit further. Visit our What to Expect page.
URL:https://crossingscollinsville.com/event/sunday-morning-church/
LOCATION:The Crossings Church Collinsville\, 2002 Mall St\, Collinsville\, IL\, 62234\, United States
CATEGORIES:Worship Service
ATTACH;FMTTYPE=image/png:https://crossingscollinsville.com/wp-content/uploads/2025/05/worship-header-scaled.png
ORGANIZER;CN="The Crossings Church Collinsville":MAILTO:admin@crossingscollinsville.com
END:VEVENT
BEGIN:VEVENT
DTSTART;TZID=America/Chicago:20261106T080000
DTEND;TZID=America/Chicago:20261107T170000
DTSTAMP:20260421T115300
CREATED:20260419T232413Z
LAST-MODIFIED:20260419T232413Z
UID:25939-1793952000-1794070800@crossingscollinsville.com
SUMMARY:Agape Conference
DESCRIPTION:
URL:https://crossingscollinsville.com/event/agape-conference/
LOCATION:IL
END:VEVENT
BEGIN:VEVENT
DTSTART;TZID=America/Chicago:20261108T080000
DTEND;TZID=America/Chicago:20261108T170000
DTSTAMP:20260421T115300
CREATED:20260419T232412Z
LAST-MODIFIED:20260419T232412Z
UID:25941-1794124800-1794157200@crossingscollinsville.com
SUMMARY:Crock pot Cookoff
DESCRIPTION:
URL:https://crossingscollinsville.com/event/crock-pot-cookoff/
LOCATION:IL
END:VEVENT
BEGIN:VEVENT
DTSTART;TZID=America/Chicago:20250504T100000
DTEND;TZID=America/Chicago:20250504T113000
DTSTAMP:20260421T115300
CREATED:20250523T194530Z
LAST-MODIFIED:20250525T030201Z
UID:25523-1746352800-1746358200@crossingscollinsville.com
SUMMARY:Sunday Morning Church
DESCRIPTION:SUNDAY MORNINGS 10AM @ 2002 MALL STREET COLLINSVILLE IL\nThe Crossings Church Collinsville holds public worship services every Sunday starting at 10AM at 2002 Mall Street in Collinsville\, IL. \n\nCasual dress\nRelevant bible lessons\nChildren’s classes for 5th grade and under\n\nPlan your visit further. Visit our What to Expect page.
URL:https://crossingscollinsville.com/event/sunday-morning-church/
LOCATION:The Crossings Church Collinsville\, 2002 Mall St\, Collinsville\, IL\, 62234\, United States
CATEGORIES:Worship Service
ATTACH;FMTTYPE=image/png:https://crossingscollinsville.com/wp-content/uploads/2025/05/worship-header-scaled.png
ORGANIZER;CN="The Crossings Church Collinsville":MAILTO:admin@crossingscollinsville.com
END:VEVENT
BEGIN:VEVENT
DTSTART;TZID=America/Chicago:20250504T100000
DTEND;TZID=America/Chicago:20250504T113000
DTSTAMP:20260421T115300
CREATED:20250523T194530Z
LAST-MODIFIED:20250525T030201Z
UID:25523-1746352800-1746358200@crossingscollinsville.com
SUMMARY:Sunday Morning Church
DESCRIPTION:SUNDAY MORNINGS 10AM @ 2002 MALL STREET COLLINSVILLE IL\nThe Crossings Church Collinsville holds public worship services every Sunday starting at 10AM at 2002 Mall Street in Collinsville\, IL. \n\nCasual dress\nRelevant bible lessons\nChildren’s classes for 5th grade and under\n\nPlan your visit further. Visit our What to Expect page.
URL:https://crossingscollinsville.com/event/sunday-morning-church/
LOCATION:The Crossings Church Collinsville\, 2002 Mall St\, Collinsville\, IL\, 62234\, United States
CATEGORIES:Worship Service
ATTACH;FMTTYPE=image/png:https://crossingscollinsville.com/wp-content/uploads/2025/05/worship-header-scaled.png
ORGANIZER;CN="The Crossings Church Collinsville":MAILTO:admin@crossingscollinsville.com
END:VEVENT
BEGIN:VEVENT
DTSTART;TZID=America/Chicago:20261121T080000
DTEND;TZID=America/Chicago:20261121T170000
DTSTAMP:20260421T115300
CREATED:20260419T232412Z
LAST-MODIFIED:20260419T232412Z
UID:25943-1795248000-1795280400@crossingscollinsville.com
SUMMARY:Membership 101
DESCRIPTION:
URL:https://crossingscollinsville.com/event/membership-101-3/
LOCATION:IL
END:VEVENT
BEGIN:VEVENT
DTSTART;TZID=America/Chicago:20250504T100000
DTEND;TZID=America/Chicago:20250504T113000
DTSTAMP:20260421T115300
CREATED:20250523T194530Z
LAST-MODIFIED:20250525T030201Z
UID:25523-1746352800-1746358200@crossingscollinsville.com
SUMMARY:Sunday Morning Church
DESCRIPTION:SUNDAY MORNINGS 10AM @ 2002 MALL STREET COLLINSVILLE IL\nThe Crossings Church Collinsville holds public worship services every Sunday starting at 10AM at 2002 Mall Street in Collinsville\, IL. \n\nCasual dress\nRelevant bible lessons\nChildren’s classes for 5th grade and under\n\nPlan your visit further. Visit our What to Expect page.
URL:https://crossingscollinsville.com/event/sunday-morning-church/
LOCATION:The Crossings Church Collinsville\, 2002 Mall St\, Collinsville\, IL\, 62234\, United States
CATEGORIES:Worship Service
ATTACH;FMTTYPE=image/png:https://crossingscollinsville.com/wp-content/uploads/2025/05/worship-header-scaled.png
ORGANIZER;CN="The Crossings Church Collinsville":MAILTO:admin@crossingscollinsville.com
END:VEVENT
BEGIN:VEVENT
DTSTART;TZID=America/Chicago:20250504T100000
DTEND;TZID=America/Chicago:20250504T113000
DTSTAMP:20260421T115300
CREATED:20250523T194530Z
LAST-MODIFIED:20250525T030201Z
UID:25523-1746352800-1746358200@crossingscollinsville.com
SUMMARY:Sunday Morning Church
DESCRIPTION:SUNDAY MORNINGS 10AM @ 2002 MALL STREET COLLINSVILLE IL\nThe Crossings Church Collinsville holds public worship services every Sunday starting at 10AM at 2002 Mall Street in Collinsville\, IL. \n\nCasual dress\nRelevant bible lessons\nChildren’s classes for 5th grade and under\n\nPlan your visit further. Visit our What to Expect page.
URL:https://crossingscollinsville.com/event/sunday-morning-church/
LOCATION:The Crossings Church Collinsville\, 2002 Mall St\, Collinsville\, IL\, 62234\, United States
CATEGORIES:Worship Service
ATTACH;FMTTYPE=image/png:https://crossingscollinsville.com/wp-content/uploads/2025/05/worship-header-scaled.png
ORGANIZER;CN="The Crossings Church Collinsville":MAILTO:admin@crossingscollinsville.com
END:VEVENT
BEGIN:VEVENT
DTSTART;TZID=America/Chicago:20250504T100000
DTEND;TZID=America/Chicago:20250504T113000
DTSTAMP:20260421T115300
CREATED:20250523T194530Z
LAST-MODIFIED:20250525T030201Z
UID:25523-1746352800-1746358200@crossingscollinsville.com
SUMMARY:Sunday Morning Church
DESCRIPTION:SUNDAY MORNINGS 10AM @ 2002 MALL STREET COLLINSVILLE IL\nThe Crossings Church Collinsville holds public worship services every Sunday starting at 10AM at 2002 Mall Street in Collinsville\, IL. \n\nCasual dress\nRelevant bible lessons\nChildren’s classes for 5th grade and under\n\nPlan your visit further. Visit our What to Expect page.
URL:https://crossingscollinsville.com/event/sunday-morning-church/
LOCATION:The Crossings Church Collinsville\, 2002 Mall St\, Collinsville\, IL\, 62234\, United States
CATEGORIES:Worship Service
ATTACH;FMTTYPE=image/png:https://crossingscollinsville.com/wp-content/uploads/2025/05/worship-header-scaled.png
ORGANIZER;CN="The Crossings Church Collinsville":MAILTO:admin@crossingscollinsville.com
END:VEVENT
BEGIN:VEVENT
DTSTART;TZID=America/Chicago:20250504T100000
DTEND;TZID=America/Chicago:20250504T113000
DTSTAMP:20260421T115300
CREATED:20250523T194530Z
LAST-MODIFIED:20250525T030201Z
UID:25523-1746352800-1746358200@crossingscollinsville.com
SUMMARY:Sunday Morning Church
DESCRIPTION:SUNDAY MORNINGS 10AM @ 2002 MALL STREET COLLINSVILLE IL\nThe Crossings Church Collinsville holds public worship services every Sunday starting at 10AM at 2002 Mall Street in Collinsville\, IL. \n\nCasual dress\nRelevant bible lessons\nChildren’s classes for 5th grade and under\n\nPlan your visit further. Visit our What to Expect page.
URL:https://crossingscollinsville.com/event/sunday-morning-church/
LOCATION:The Crossings Church Collinsville\, 2002 Mall St\, Collinsville\, IL\, 62234\, United States
CATEGORIES:Worship Service
ATTACH;FMTTYPE=image/png:https://crossingscollinsville.com/wp-content/uploads/2025/05/worship-header-scaled.png
ORGANIZER;CN="The Crossings Church Collinsville":MAILTO:admin@crossingscollinsville.com
END:VEVENT
BEGIN:VEVENT
DTSTART;TZID=America/Chicago:20261219T080000
DTEND;TZID=America/Chicago:20261219T170000
DTSTAMP:20260421T115300
CREATED:20260419T232412Z
LAST-MODIFIED:20260419T232412Z
UID:25945-1797667200-1797699600@crossingscollinsville.com
SUMMARY:Reel Truth
DESCRIPTION:
URL:https://crossingscollinsville.com/event/reel-truth/
LOCATION:IL
END:VEVENT
BEGIN:VEVENT
DTSTART;TZID=America/Chicago:20250504T100000
DTEND;TZID=America/Chicago:20250504T113000
DTSTAMP:20260421T115300
CREATED:20250523T194530Z
LAST-MODIFIED:20250525T030201Z
UID:25523-1746352800-1746358200@crossingscollinsville.com
SUMMARY:Sunday Morning Church
DESCRIPTION:SUNDAY MORNINGS 10AM @ 2002 MALL STREET COLLINSVILLE IL\nThe Crossings Church Collinsville holds public worship services every Sunday starting at 10AM at 2002 Mall Street in Collinsville\, IL. \n\nCasual dress\nRelevant bible lessons\nChildren’s classes for 5th grade and under\n\nPlan your visit further. Visit our What to Expect page.
URL:https://crossingscollinsville.com/event/sunday-morning-church/
LOCATION:The Crossings Church Collinsville\, 2002 Mall St\, Collinsville\, IL\, 62234\, United States
CATEGORIES:Worship Service
ATTACH;FMTTYPE=image/png:https://crossingscollinsville.com/wp-content/uploads/2025/05/worship-header-scaled.png
ORGANIZER;CN="The Crossings Church Collinsville":MAILTO:admin@crossingscollinsville.com
END:VEVENT
BEGIN:VEVENT
DTSTART;TZID=America/Chicago:20261227T080000
DTEND;TZID=America/Chicago:20261227T170000
DTSTAMP:20260421T115300
CREATED:20260419T232412Z
LAST-MODIFIED:20260419T232412Z
UID:25947-1798358400-1798390800@crossingscollinsville.com
SUMMARY:Christmas Service
DESCRIPTION:
URL:https://crossingscollinsville.com/event/christmas-service/
LOCATION:IL
END:VEVENT
BEGIN:VEVENT
DTSTART;TZID=America/Chicago:20250504T100000
DTEND;TZID=America/Chicago:20250504T113000
DTSTAMP:20260421T115300
CREATED:20250523T194530Z
LAST-MODIFIED:20250525T030201Z
UID:25523-1746352800-1746358200@crossingscollinsville.com
SUMMARY:Sunday Morning Church
DESCRIPTION:SUNDAY MORNINGS 10AM @ 2002 MALL STREET COLLINSVILLE IL\nThe Crossings Church Collinsville holds public worship services every Sunday starting at 10AM at 2002 Mall Street in Collinsville\, IL. \n\nCasual dress\nRelevant bible lessons\nChildren’s classes for 5th grade and under\n\nPlan your visit further. Visit our What to Expect page.
URL:https://crossingscollinsville.com/event/sunday-morning-church/
LOCATION:The Crossings Church Collinsville\, 2002 Mall St\, Collinsville\, IL\, 62234\, United States
CATEGORIES:Worship Service
ATTACH;FMTTYPE=image/png:https://crossingscollinsville.com/wp-content/uploads/2025/05/worship-header-scaled.png
ORGANIZER;CN="The Crossings Church Collinsville":MAILTO:admin@crossingscollinsville.com
END:VEVENT
BEGIN:VEVENT
DTSTART;TZID=America/Chicago:20250504T100000
DTEND;TZID=America/Chicago:20250504T113000
DTSTAMP:20260421T115300
CREATED:20250523T194530Z
LAST-MODIFIED:20250525T030201Z
UID:25523-1746352800-1746358200@crossingscollinsville.com
SUMMARY:Sunday Morning Church
DESCRIPTION:SUNDAY MORNINGS 10AM @ 2002 MALL STREET COLLINSVILLE IL\nThe Crossings Church Collinsville holds public worship services every Sunday starting at 10AM at 2002 Mall Street in Collinsville\, IL. \n\nCasual dress\nRelevant bible lessons\nChildren’s classes for 5th grade and under\n\nPlan your visit further. Visit our What to Expect page.
URL:https://crossingscollinsville.com/event/sunday-morning-church/
LOCATION:The Crossings Church Collinsville\, 2002 Mall St\, Collinsville\, IL\, 62234\, United States
CATEGORIES:Worship Service
ATTACH;FMTTYPE=image/png:https://crossingscollinsville.com/wp-content/uploads/2025/05/worship-header-scaled.png
ORGANIZER;CN="The Crossings Church Collinsville":MAILTO:admin@crossingscollinsville.com
END:VEVENT
BEGIN:VEVENT
DTSTART;TZID=America/Chicago:20250504T100000
DTEND;TZID=America/Chicago:20250504T113000
DTSTAMP:20260421T115300
CREATED:20250523T194530Z
LAST-MODIFIED:20250525T030201Z
UID:25523-1746352800-1746358200@crossingscollinsville.com
SUMMARY:Sunday Morning Church
DESCRIPTION:SUNDAY MORNINGS 10AM @ 2002 MALL STREET COLLINSVILLE IL\nThe Crossings Church Collinsville holds public worship services every Sunday starting at 10AM at 2002 Mall Street in Collinsville\, IL. \n\nCasual dress\nRelevant bible lessons\nChildren’s classes for 5th grade and under\n\nPlan your visit further. Visit our What to Expect page.
URL:https://crossingscollinsville.com/event/sunday-morning-church/
LOCATION:The Crossings Church Collinsville\, 2002 Mall St\, Collinsville\, IL\, 62234\, United States
CATEGORIES:Worship Service
ATTACH;FMTTYPE=image/png:https://crossingscollinsville.com/wp-content/uploads/2025/05/worship-header-scaled.png
ORGANIZER;CN="The Crossings Church Collinsville":MAILTO:admin@crossingscollinsville.com
END:VEVENT
BEGIN:VEVENT
DTSTART;TZID=America/Chicago:20250504T100000
DTEND;TZID=America/Chicago:20250504T113000
DTSTAMP:20260421T115300
CREATED:20250523T194530Z
LAST-MODIFIED:20250525T030201Z
UID:25523-1746352800-1746358200@crossingscollinsville.com
SUMMARY:Sunday Morning Church
DESCRIPTION:SUNDAY MORNINGS 10AM @ 2002 MALL STREET COLLINSVILLE IL\nThe Crossings Church Collinsville holds public worship services every Sunday starting at 10AM at 2002 Mall Street in Collinsville\, IL. \n\nCasual dress\nRelevant bible lessons\nChildren’s classes for 5th grade and under\n\nPlan your visit further. Visit our What to Expect page.
URL:https://crossingscollinsville.com/event/sunday-morning-church/
LOCATION:The Crossings Church Collinsville\, 2002 Mall St\, Collinsville\, IL\, 62234\, United States
CATEGORIES:Worship Service
ATTACH;FMTTYPE=image/png:https://crossingscollinsville.com/wp-content/uploads/2025/05/worship-header-scaled.png
ORGANIZER;CN="The Crossings Church Collinsville":MAILTO:admin@crossingscollinsville.com
END:VEVENT
BEGIN:VEVENT
DTSTART;TZID=America/Chicago:20250504T100000
DTEND;TZID=America/Chicago:20250504T113000
DTSTAMP:20260421T115300
CREATED:20250523T194530Z
LAST-MODIFIED:20250525T030201Z
UID:25523-1746352800-1746358200@crossingscollinsville.com
SUMMARY:Sunday Morning Church
DESCRIPTION:SUNDAY MORNINGS 10AM @ 2002 MALL STREET COLLINSVILLE IL\nThe Crossings Church Collinsville holds public worship services every Sunday starting at 10AM at 2002 Mall Street in Collinsville\, IL. \n\nCasual dress\nRelevant bible lessons\nChildren’s classes for 5th grade and under\n\nPlan your visit further. Visit our What to Expect page.
URL:https://crossingscollinsville.com/event/sunday-morning-church/
LOCATION:The Crossings Church Collinsville\, 2002 Mall St\, Collinsville\, IL\, 62234\, United States
CATEGORIES:Worship Service
ATTACH;FMTTYPE=image/png:https://crossingscollinsville.com/wp-content/uploads/2025/05/worship-header-scaled.png
ORGANIZER;CN="The Crossings Church Collinsville":MAILTO:admin@crossingscollinsville.com
END:VEVENT
BEGIN:VEVENT
DTSTART;TZID=America/Chicago:20250504T100000
DTEND;TZID=America/Chicago:20250504T113000
DTSTAMP:20260421T115300
CREATED:20250523T194530Z
LAST-MODIFIED:20250525T030201Z
UID:25523-1746352800-1746358200@crossingscollinsville.com
SUMMARY:Sunday Morning Church
DESCRIPTION:SUNDAY MORNINGS 10AM @ 2002 MALL STREET COLLINSVILLE IL\nThe Crossings Church Collinsville holds public worship services every Sunday starting at 10AM at 2002 Mall Street in Collinsville\, IL. \n\nCasual dress\nRelevant bible lessons\nChildren’s classes for 5th grade and under\n\nPlan your visit further. Visit our What to Expect page.
URL:https://crossingscollinsville.com/event/sunday-morning-church/
LOCATION:The Crossings Church Collinsville\, 2002 Mall St\, Collinsville\, IL\, 62234\, United States
CATEGORIES:Worship Service
ATTACH;FMTTYPE=image/png:https://crossingscollinsville.com/wp-content/uploads/2025/05/worship-header-scaled.png
ORGANIZER;CN="The Crossings Church Collinsville":MAILTO:admin@crossingscollinsville.com
END:VEVENT
BEGIN:VEVENT
DTSTART;TZID=America/Chicago:20250504T100000
DTEND;TZID=America/Chicago:20250504T113000
DTSTAMP:20260421T115300
CREATED:20250523T194530Z
LAST-MODIFIED:20250525T030201Z
UID:25523-1746352800-1746358200@crossingscollinsville.com
SUMMARY:Sunday Morning Church
DESCRIPTION:SUNDAY MORNINGS 10AM @ 2002 MALL STREET COLLINSVILLE IL\nThe Crossings Church Collinsville holds public worship services every Sunday starting at 10AM at 2002 Mall Street in Collinsville\, IL. \n\nCasual dress\nRelevant bible lessons\nChildren’s classes for 5th grade and under\n\nPlan your visit further. Visit our What to Expect page.
URL:https://crossingscollinsville.com/event/sunday-morning-church/
LOCATION:The Crossings Church Collinsville\, 2002 Mall St\, Collinsville\, IL\, 62234\, United States
CATEGORIES:Worship Service
ATTACH;FMTTYPE=image/png:https://crossingscollinsville.com/wp-content/uploads/2025/05/worship-header-scaled.png
ORGANIZER;CN="The Crossings Church Collinsville":MAILTO:admin@crossingscollinsville.com
END:VEVENT
BEGIN:VEVENT
DTSTART;TZID=America/Chicago:20250504T100000
DTEND;TZID=America/Chicago:20250504T113000
DTSTAMP:20260421T115300
CREATED:20250523T194530Z
LAST-MODIFIED:20250525T030201Z
UID:25523-1746352800-1746358200@crossingscollinsville.com
SUMMARY:Sunday Morning Church
DESCRIPTION:SUNDAY MORNINGS 10AM @ 2002 MALL STREET COLLINSVILLE IL\nThe Crossings Church Collinsville holds public worship services every Sunday starting at 10AM at 2002 Mall Street in Collinsville\, IL. \n\nCasual dress\nRelevant bible lessons\nChildren’s classes for 5th grade and under\n\nPlan your visit further. Visit our What to Expect page.
URL:https://crossingscollinsville.com/event/sunday-morning-church/
LOCATION:The Crossings Church Collinsville\, 2002 Mall St\, Collinsville\, IL\, 62234\, United States
CATEGORIES:Worship Service
ATTACH;FMTTYPE=image/png:https://crossingscollinsville.com/wp-content/uploads/2025/05/worship-header-scaled.png
ORGANIZER;CN="The Crossings Church Collinsville":MAILTO:admin@crossingscollinsville.com
END:VEVENT
BEGIN:VEVENT
DTSTART;TZID=America/Chicago:20250504T100000
DTEND;TZID=America/Chicago:20250504T113000
DTSTAMP:20260421T115300
CREATED:20250523T194530Z
LAST-MODIFIED:20250525T030201Z
UID:25523-1746352800-1746358200@crossingscollinsville.com
SUMMARY:Sunday Morning Church
DESCRIPTION:SUNDAY MORNINGS 10AM @ 2002 MALL STREET COLLINSVILLE IL\nThe Crossings Church Collinsville holds public worship services every Sunday starting at 10AM at 2002 Mall Street in Collinsville\, IL. \n\nCasual dress\nRelevant bible lessons\nChildren’s classes for 5th grade and under\n\nPlan your visit further. Visit our What to Expect page.
URL:https://crossingscollinsville.com/event/sunday-morning-church/
LOCATION:The Crossings Church Collinsville\, 2002 Mall St\, Collinsville\, IL\, 62234\, United States
CATEGORIES:Worship Service
ATTACH;FMTTYPE=image/png:https://crossingscollinsville.com/wp-content/uploads/2025/05/worship-header-scaled.png
ORGANIZER;CN="The Crossings Church Collinsville":MAILTO:admin@crossingscollinsville.com
END:VEVENT
BEGIN:VEVENT
DTSTART;TZID=America/Chicago:20250504T100000
DTEND;TZID=America/Chicago:20250504T113000
DTSTAMP:20260421T115300
CREATED:20250523T194530Z
LAST-MODIFIED:20250525T030201Z
UID:25523-1746352800-1746358200@crossingscollinsville.com
SUMMARY:Sunday Morning Church
DESCRIPTION:SUNDAY MORNINGS 10AM @ 2002 MALL STREET COLLINSVILLE IL\nThe Crossings Church Collinsville holds public worship services every Sunday starting at 10AM at 2002 Mall Street in Collinsville\, IL. \n\nCasual dress\nRelevant bible lessons\nChildren’s classes for 5th grade and under\n\nPlan your visit further. Visit our What to Expect page.
URL:https://crossingscollinsville.com/event/sunday-morning-church/
LOCATION:The Crossings Church Collinsville\, 2002 Mall St\, Collinsville\, IL\, 62234\, United States
CATEGORIES:Worship Service
ATTACH;FMTTYPE=image/png:https://crossingscollinsville.com/wp-content/uploads/2025/05/worship-header-scaled.png
ORGANIZER;CN="The Crossings Church Collinsville":MAILTO:admin@crossingscollinsville.com
END:VEVENT
BEGIN:VEVENT
DTSTART;TZID=America/Chicago:20250504T100000
DTEND;TZID=America/Chicago:20250504T113000
DTSTAMP:20260421T115300
CREATED:20250523T194530Z
LAST-MODIFIED:20250525T030201Z
UID:25523-1746352800-1746358200@crossingscollinsville.com
SUMMARY:Sunday Morning Church
DESCRIPTION:SUNDAY MORNINGS 10AM @ 2002 MALL STREET COLLINSVILLE IL\nThe Crossings Church Collinsville holds public worship services every Sunday starting at 10AM at 2002 Mall Street in Collinsville\, IL. \n\nCasual dress\nRelevant bible lessons\nChildren’s classes for 5th grade and under\n\nPlan your visit further. Visit our What to Expect page.
URL:https://crossingscollinsville.com/event/sunday-morning-church/
LOCATION:The Crossings Church Collinsville\, 2002 Mall St\, Collinsville\, IL\, 62234\, United States
CATEGORIES:Worship Service
ATTACH;FMTTYPE=image/png:https://crossingscollinsville.com/wp-content/uploads/2025/05/worship-header-scaled.png
ORGANIZER;CN="The Crossings Church Collinsville":MAILTO:admin@crossingscollinsville.com
END:VEVENT
BEGIN:VEVENT
DTSTART;TZID=America/Chicago:20250504T100000
DTEND;TZID=America/Chicago:20250504T113000
DTSTAMP:20260421T115300
CREATED:20250523T194530Z
LAST-MODIFIED:20250525T030201Z
UID:25523-1746352800-1746358200@crossingscollinsville.com
SUMMARY:Sunday Morning Church
DESCRIPTION:SUNDAY MORNINGS 10AM @ 2002 MALL STREET COLLINSVILLE IL\nThe Crossings Church Collinsville holds public worship services every Sunday starting at 10AM at 2002 Mall Street in Collinsville\, IL. \n\nCasual dress\nRelevant bible lessons\nChildren’s classes for 5th grade and under\n\nPlan your visit further. Visit our What to Expect page.
URL:https://crossingscollinsville.com/event/sunday-morning-church/
LOCATION:The Crossings Church Collinsville\, 2002 Mall St\, Collinsville\, IL\, 62234\, United States
CATEGORIES:Worship Service
ATTACH;FMTTYPE=image/png:https://crossingscollinsville.com/wp-content/uploads/2025/05/worship-header-scaled.png
ORGANIZER;CN="The Crossings Church Collinsville":MAILTO:admin@crossingscollinsville.com
END:VEVENT
BEGIN:VEVENT
DTSTART;TZID=America/Chicago:20250504T100000
DTEND;TZID=America/Chicago:20250504T113000
DTSTAMP:20260421T115300
CREATED:20250523T194530Z
LAST-MODIFIED:20250525T030201Z
UID:25523-1746352800-1746358200@crossingscollinsville.com
SUMMARY:Sunday Morning Church
DESCRIPTION:SUNDAY MORNINGS 10AM @ 2002 MALL STREET COLLINSVILLE IL\nThe Crossings Church Collinsville holds public worship services every Sunday starting at 10AM at 2002 Mall Street in Collinsville\, IL. \n\nCasual dress\nRelevant bible lessons\nChildren’s classes for 5th grade and under\n\nPlan your visit further. Visit our What to Expect page.
URL:https://crossingscollinsville.com/event/sunday-morning-church/
LOCATION:The Crossings Church Collinsville\, 2002 Mall St\, Collinsville\, IL\, 62234\, United States
CATEGORIES:Worship Service
ATTACH;FMTTYPE=image/png:https://crossingscollinsville.com/wp-content/uploads/2025/05/worship-header-scaled.png
ORGANIZER;CN="The Crossings Church Collinsville":MAILTO:admin@crossingscollinsville.com
END:VEVENT
END:VCALENDAR