BEGIN:VCALENDAR
VERSION:2.0
PRODID:-//The Crossings Church Collinsville - ECPv6.15.20//NONSGML v1.0//EN
CALSCALE:GREGORIAN
METHOD:PUBLISH
X-WR-CALNAME:The Crossings Church Collinsville
X-ORIGINAL-URL:https://crossingscollinsville.com
X-WR-CALDESC:Events for The Crossings Church Collinsville
REFRESH-INTERVAL;VALUE=DURATION:PT1H
X-Robots-Tag:noindex
X-PUBLISHED-TTL:PT1H
BEGIN:VTIMEZONE
TZID:America/Chicago
BEGIN:DAYLIGHT
TZOFFSETFROM:-0600
TZOFFSETTO:-0500
TZNAME:CDT
DTSTART:20240310T080000
END:DAYLIGHT
BEGIN:STANDARD
TZOFFSETFROM:-0500
TZOFFSETTO:-0600
TZNAME:CST
DTSTART:20241103T070000
END:STANDARD
BEGIN:DAYLIGHT
TZOFFSETFROM:-0600
TZOFFSETTO:-0500
TZNAME:CDT
DTSTART:20250309T080000
END:DAYLIGHT
BEGIN:STANDARD
TZOFFSETFROM:-0500
TZOFFSETTO:-0600
TZNAME:CST
DTSTART:20251102T070000
END:STANDARD
BEGIN:DAYLIGHT
TZOFFSETFROM:-0600
TZOFFSETTO:-0500
TZNAME:CDT
DTSTART:20260308T080000
END:DAYLIGHT
BEGIN:STANDARD
TZOFFSETFROM:-0500
TZOFFSETTO:-0600
TZNAME:CST
DTSTART:20261101T070000
END:STANDARD
END:VTIMEZONE
BEGIN:VTIMEZONE
TZID:America/Chicago
BEGIN:DAYLIGHT
TZOFFSETFROM:-0600
TZOFFSETTO:-0500
TZNAME:CDT
DTSTART:20160313T080000
END:DAYLIGHT
BEGIN:STANDARD
TZOFFSETFROM:-0500
TZOFFSETTO:-0600
TZNAME:CST
DTSTART:20161106T070000
END:STANDARD
BEGIN:DAYLIGHT
TZOFFSETFROM:-0600
TZOFFSETTO:-0500
TZNAME:CDT
DTSTART:20170312T080000
END:DAYLIGHT
BEGIN:STANDARD
TZOFFSETFROM:-0500
TZOFFSETTO:-0600
TZNAME:CST
DTSTART:20171105T070000
END:STANDARD
BEGIN:DAYLIGHT
TZOFFSETFROM:-0600
TZOFFSETTO:-0500
TZNAME:CDT
DTSTART:20180311T080000
END:DAYLIGHT
BEGIN:STANDARD
TZOFFSETFROM:-0500
TZOFFSETTO:-0600
TZNAME:CST
DTSTART:20181104T070000
END:STANDARD
BEGIN:DAYLIGHT
TZOFFSETFROM:-0600
TZOFFSETTO:-0500
TZNAME:CDT
DTSTART:20190310T080000
END:DAYLIGHT
BEGIN:STANDARD
TZOFFSETFROM:-0500
TZOFFSETTO:-0600
TZNAME:CST
DTSTART:20191103T070000
END:STANDARD
BEGIN:DAYLIGHT
TZOFFSETFROM:-0600
TZOFFSETTO:-0500
TZNAME:CDT
DTSTART:20200308T080000
END:DAYLIGHT
BEGIN:STANDARD
TZOFFSETFROM:-0500
TZOFFSETTO:-0600
TZNAME:CST
DTSTART:20201101T070000
END:STANDARD
BEGIN:DAYLIGHT
TZOFFSETFROM:-0600
TZOFFSETTO:-0500
TZNAME:CDT
DTSTART:20210314T080000
END:DAYLIGHT
BEGIN:STANDARD
TZOFFSETFROM:-0500
TZOFFSETTO:-0600
TZNAME:CST
DTSTART:20211107T070000
END:STANDARD
BEGIN:DAYLIGHT
TZOFFSETFROM:-0600
TZOFFSETTO:-0500
TZNAME:CDT
DTSTART:20220313T080000
END:DAYLIGHT
BEGIN:STANDARD
TZOFFSETFROM:-0500
TZOFFSETTO:-0600
TZNAME:CST
DTSTART:20221106T070000
END:STANDARD
BEGIN:DAYLIGHT
TZOFFSETFROM:-0600
TZOFFSETTO:-0500
TZNAME:CDT
DTSTART:20230312T080000
END:DAYLIGHT
BEGIN:STANDARD
TZOFFSETFROM:-0500
TZOFFSETTO:-0600
TZNAME:CST
DTSTART:20231105T070000
END:STANDARD
BEGIN:DAYLIGHT
TZOFFSETFROM:-0600
TZOFFSETTO:-0500
TZNAME:CDT
DTSTART:20240310T080000
END:DAYLIGHT
BEGIN:STANDARD
TZOFFSETFROM:-0500
TZOFFSETTO:-0600
TZNAME:CST
DTSTART:20241103T070000
END:STANDARD
BEGIN:DAYLIGHT
TZOFFSETFROM:-0600
TZOFFSETTO:-0500
TZNAME:CDT
DTSTART:20250309T080000
END:DAYLIGHT
BEGIN:STANDARD
TZOFFSETFROM:-0500
TZOFFSETTO:-0600
TZNAME:CST
DTSTART:20251102T070000
END:STANDARD
BEGIN:DAYLIGHT
TZOFFSETFROM:-0600
TZOFFSETTO:-0500
TZNAME:CDT
DTSTART:20260308T080000
END:DAYLIGHT
BEGIN:STANDARD
TZOFFSETFROM:-0500
TZOFFSETTO:-0600
TZNAME:CST
DTSTART:20261101T070000
END:STANDARD
END:VTIMEZONE
BEGIN:VEVENT
DTSTART;VALUE=DATE:20250719
DTEND;VALUE=DATE:20250725
DTSTAMP:20260425T111108
CREATED:20250523T223152Z
LAST-MODIFIED:20250526T201623Z
UID:25537-1752883200-1753401599@crossingscollinsville.com
SUMMARY:Jr. High Camp
DESCRIPTION:JUNIOR HIGH CHURCH CAMP\nChurch Camp is a great way for students to connect with God and one another. Junior High Camp – speak with your youth leader for the latest information.
URL:https://crossingscollinsville.com/event/jr-high-camp/
LOCATION:IL
CATEGORIES:Youth Group
ATTACH;FMTTYPE=image/png:https://crossingscollinsville.com/wp-content/uploads/2025/05/church-camp-crossings-church-collinsville-il-scaled.png
ORGANIZER;CN="The Crossings Church Collinsville":MAILTO:admin@crossingscollinsville.com
END:VEVENT
BEGIN:VEVENT
DTSTART;TZID=America/Chicago:20250504T100000
DTEND;TZID=America/Chicago:20250504T113000
DTSTAMP:20260425T111108
CREATED:20250523T194530Z
LAST-MODIFIED:20250525T030201Z
UID:25523-1746352800-1746358200@crossingscollinsville.com
SUMMARY:Sunday Morning Church
DESCRIPTION:SUNDAY MORNINGS 10AM @ 2002 MALL STREET COLLINSVILLE IL\nThe Crossings Church Collinsville holds public worship services every Sunday starting at 10AM at 2002 Mall Street in Collinsville\, IL. \n\nCasual dress\nRelevant bible lessons\nChildren’s classes for 5th grade and under\n\nPlan your visit further. Visit our What to Expect page.
URL:https://crossingscollinsville.com/event/sunday-morning-church/
LOCATION:The Crossings Church Collinsville\, 2002 Mall St\, Collinsville\, IL\, 62234\, United States
CATEGORIES:Worship Service
ATTACH;FMTTYPE=image/png:https://crossingscollinsville.com/wp-content/uploads/2025/05/worship-header-scaled.png
ORGANIZER;CN="The Crossings Church Collinsville":MAILTO:admin@crossingscollinsville.com
END:VEVENT
BEGIN:VEVENT
DTSTART;TZID=America/Chicago:20250710T180000
DTEND;TZID=America/Chicago:20250712T180000
DTSTAMP:20260425T111108
CREATED:20250516T200419Z
LAST-MODIFIED:20250523T194143Z
UID:25509-1752170400-1752343200@crossingscollinsville.com
SUMMARY:A.C.T.S. 2025 (Antioch Collective Training Seminar)
DESCRIPTION:If you’re looking for a ministry event that offers practical insight in creating disciplemaking cultures that help people follow Jesus\, you’ve come to the right place.\nAntioch Collective is an organization made up of ministers and thinkers who are passionate about helping people connect to the living God through Jesus Christ.\n\n2025 TRACKS \n\nRENEW.org Hot Topics\nWorship Ministry Mentoring\nPractical Church Planting\nDisciplemaking Campus Ministry\nEffective Bible Study Methods & Tools\nAnswering Calvinism\nDisciplemaking Teen Ministry\nBiblically-based Support Groups (counseling groups\, recovery groups)\nDisciplemaking Small Groups
URL:https://crossingscollinsville.com/event/acts2025/
LOCATION:The Crossings Church St. Charles County\, 1147 Tom Ginnever Ave\, O'Fallon\, MO\, 66633\, United States
CATEGORIES:Campus Ministry,Special Event,Youth Group
ATTACH;FMTTYPE=image/jpeg:https://crossingscollinsville.com/wp-content/uploads/2025/05/Antioch-Collective-Training-Seminar-2025-16x9-1-scaled.jpg
ORGANIZER;CN="The Crossings Church Collinsville":MAILTO:admin@crossingscollinsville.com
END:VEVENT
BEGIN:VEVENT
DTSTART;TZID=America/Chicago:20250504T100000
DTEND;TZID=America/Chicago:20250504T113000
DTSTAMP:20260425T111108
CREATED:20250523T194530Z
LAST-MODIFIED:20250525T030201Z
UID:25523-1746352800-1746358200@crossingscollinsville.com
SUMMARY:Sunday Morning Church
DESCRIPTION:SUNDAY MORNINGS 10AM @ 2002 MALL STREET COLLINSVILLE IL\nThe Crossings Church Collinsville holds public worship services every Sunday starting at 10AM at 2002 Mall Street in Collinsville\, IL. \n\nCasual dress\nRelevant bible lessons\nChildren’s classes for 5th grade and under\n\nPlan your visit further. Visit our What to Expect page.
URL:https://crossingscollinsville.com/event/sunday-morning-church/
LOCATION:The Crossings Church Collinsville\, 2002 Mall St\, Collinsville\, IL\, 62234\, United States
CATEGORIES:Worship Service
ATTACH;FMTTYPE=image/png:https://crossingscollinsville.com/wp-content/uploads/2025/05/worship-header-scaled.png
ORGANIZER;CN="The Crossings Church Collinsville":MAILTO:admin@crossingscollinsville.com
END:VEVENT
BEGIN:VEVENT
DTSTART;TZID=America/Chicago:20250504T100000
DTEND;TZID=America/Chicago:20250504T113000
DTSTAMP:20260425T111108
CREATED:20250523T194530Z
LAST-MODIFIED:20250525T030201Z
UID:25523-1746352800-1746358200@crossingscollinsville.com
SUMMARY:Sunday Morning Church
DESCRIPTION:SUNDAY MORNINGS 10AM @ 2002 MALL STREET COLLINSVILLE IL\nThe Crossings Church Collinsville holds public worship services every Sunday starting at 10AM at 2002 Mall Street in Collinsville\, IL. \n\nCasual dress\nRelevant bible lessons\nChildren’s classes for 5th grade and under\n\nPlan your visit further. Visit our What to Expect page.
URL:https://crossingscollinsville.com/event/sunday-morning-church/
LOCATION:The Crossings Church Collinsville\, 2002 Mall St\, Collinsville\, IL\, 62234\, United States
CATEGORIES:Worship Service
ATTACH;FMTTYPE=image/png:https://crossingscollinsville.com/wp-content/uploads/2025/05/worship-header-scaled.png
ORGANIZER;CN="The Crossings Church Collinsville":MAILTO:admin@crossingscollinsville.com
END:VEVENT
BEGIN:VEVENT
DTSTART;TZID=America/Chicago:20250504T100000
DTEND;TZID=America/Chicago:20250504T113000
DTSTAMP:20260425T111108
CREATED:20250523T194530Z
LAST-MODIFIED:20250525T030201Z
UID:25523-1746352800-1746358200@crossingscollinsville.com
SUMMARY:Sunday Morning Church
DESCRIPTION:SUNDAY MORNINGS 10AM @ 2002 MALL STREET COLLINSVILLE IL\nThe Crossings Church Collinsville holds public worship services every Sunday starting at 10AM at 2002 Mall Street in Collinsville\, IL. \n\nCasual dress\nRelevant bible lessons\nChildren’s classes for 5th grade and under\n\nPlan your visit further. Visit our What to Expect page.
URL:https://crossingscollinsville.com/event/sunday-morning-church/
LOCATION:The Crossings Church Collinsville\, 2002 Mall St\, Collinsville\, IL\, 62234\, United States
CATEGORIES:Worship Service
ATTACH;FMTTYPE=image/png:https://crossingscollinsville.com/wp-content/uploads/2025/05/worship-header-scaled.png
ORGANIZER;CN="The Crossings Church Collinsville":MAILTO:admin@crossingscollinsville.com
END:VEVENT
BEGIN:VEVENT
DTSTART;VALUE=DATE:20250619
DTEND;VALUE=DATE:20250622
DTSTAMP:20260425T111108
CREATED:20250523T222828Z
LAST-MODIFIED:20250603T074650Z
UID:25531-1750291200-1750550399@crossingscollinsville.com
SUMMARY:Teen Service Week
DESCRIPTION:TEEN SERVICE WEEK\nTeen Service Week  is a volunteer service week our teens participate in to foster servanthood and spiritual growth. Speak with your youth leader for the latest information. This year teens will be helping with the Rise Recovery St. Louis fundraiser taking place June 21st in Edwardsville.
URL:https://crossingscollinsville.com/event/teen-service-week/
LOCATION:IL
CATEGORIES:Youth Group
ATTACH;FMTTYPE=image/png:https://crossingscollinsville.com/wp-content/uploads/2025/05/teen-service-week-crossings-church-collinsville-il-scaled.png
ORGANIZER;CN="The Crossings Church Collinsville":MAILTO:admin@crossingscollinsville.com
END:VEVENT
BEGIN:VEVENT
DTSTART;TZID=America/Chicago:20250504T100000
DTEND;TZID=America/Chicago:20250504T113000
DTSTAMP:20260425T111108
CREATED:20250523T194530Z
LAST-MODIFIED:20250525T030201Z
UID:25523-1746352800-1746358200@crossingscollinsville.com
SUMMARY:Sunday Morning Church
DESCRIPTION:SUNDAY MORNINGS 10AM @ 2002 MALL STREET COLLINSVILLE IL\nThe Crossings Church Collinsville holds public worship services every Sunday starting at 10AM at 2002 Mall Street in Collinsville\, IL. \n\nCasual dress\nRelevant bible lessons\nChildren’s classes for 5th grade and under\n\nPlan your visit further. Visit our What to Expect page.
URL:https://crossingscollinsville.com/event/sunday-morning-church/
LOCATION:The Crossings Church Collinsville\, 2002 Mall St\, Collinsville\, IL\, 62234\, United States
CATEGORIES:Worship Service
ATTACH;FMTTYPE=image/png:https://crossingscollinsville.com/wp-content/uploads/2025/05/worship-header-scaled.png
ORGANIZER;CN="The Crossings Church Collinsville":MAILTO:admin@crossingscollinsville.com
END:VEVENT
BEGIN:VEVENT
DTSTART;VALUE=DATE:20250615
DTEND;VALUE=DATE:20250620
DTSTAMP:20260425T111108
CREATED:20250523T223047Z
LAST-MODIFIED:20250526T201712Z
UID:25535-1749945600-1750377599@crossingscollinsville.com
SUMMARY:Overnight Camp
DESCRIPTION:KID’S OVERNIGHT CHURCH CAMP\nChurch Camp is a great way for students to connect with God and one another. Kid’s Overnight Camp – speak with your children’s ministry leader for the latest information.
URL:https://crossingscollinsville.com/event/overnight-camp/
LOCATION:IL
CATEGORIES:Children's Ministry
ATTACH;FMTTYPE=image/png:https://crossingscollinsville.com/wp-content/uploads/2025/05/church-camp-crossings-church-collinsville-il-scaled.png
ORGANIZER;CN="The Crossings Church Collinsville":MAILTO:admin@crossingscollinsville.com
END:VEVENT
BEGIN:VEVENT
DTSTART;VALUE=DATE:20250615
DTEND;VALUE=DATE:20250616
DTSTAMP:20260425T111108
CREATED:20250523T224147Z
LAST-MODIFIED:20250526T201907Z
UID:25550-1749945600-1750031999@crossingscollinsville.com
SUMMARY:Father's Day
DESCRIPTION:FATHER’S DAY @ THE CROSSINGS\nBring your dad to church! Fatherhood is an important responsibility\, and we want to take some time to celebrate the Dads in our lives. Join The Crossings Church Collinsville this Father’s Day!
URL:https://crossingscollinsville.com/event/fathers-day/
LOCATION:IL
CATEGORIES:Special Event
ATTACH;FMTTYPE=image/png:https://crossingscollinsville.com/wp-content/uploads/2025/05/fathers-day-crossings-church-collinsville-il-scaled.png
ORGANIZER;CN="The Crossings Church Collinsville":MAILTO:admin@crossingscollinsville.com
END:VEVENT
BEGIN:VEVENT
DTSTART;VALUE=DATE:20250609
DTEND;VALUE=DATE:20250612
DTSTAMP:20260425T111108
CREATED:20250523T222951Z
LAST-MODIFIED:20250526T201801Z
UID:25533-1749427200-1749686399@crossingscollinsville.com
SUMMARY:Day Camp
DESCRIPTION:KID’S DAY CAMP\nKid’s Day Camp is a great way for younger children to connect with God and one another. Kid’s Day Camp – speak with your children’s ministry leader for the latest information.
URL:https://crossingscollinsville.com/event/day-camp/
LOCATION:IL
CATEGORIES:Children's Ministry
ATTACH;FMTTYPE=image/png:https://crossingscollinsville.com/wp-content/uploads/2025/05/church-camp-crossings-church-collinsville-il-scaled.png
ORGANIZER;CN="The Crossings Church Collinsville":MAILTO:admin@crossingscollinsville.com
END:VEVENT
BEGIN:VEVENT
DTSTART;TZID=America/Chicago:20250504T100000
DTEND;TZID=America/Chicago:20250504T113000
DTSTAMP:20260425T111108
CREATED:20250523T194530Z
LAST-MODIFIED:20250525T030201Z
UID:25523-1746352800-1746358200@crossingscollinsville.com
SUMMARY:Sunday Morning Church
DESCRIPTION:SUNDAY MORNINGS 10AM @ 2002 MALL STREET COLLINSVILLE IL\nThe Crossings Church Collinsville holds public worship services every Sunday starting at 10AM at 2002 Mall Street in Collinsville\, IL. \n\nCasual dress\nRelevant bible lessons\nChildren’s classes for 5th grade and under\n\nPlan your visit further. Visit our What to Expect page.
URL:https://crossingscollinsville.com/event/sunday-morning-church/
LOCATION:The Crossings Church Collinsville\, 2002 Mall St\, Collinsville\, IL\, 62234\, United States
CATEGORIES:Worship Service
ATTACH;FMTTYPE=image/png:https://crossingscollinsville.com/wp-content/uploads/2025/05/worship-header-scaled.png
ORGANIZER;CN="The Crossings Church Collinsville":MAILTO:admin@crossingscollinsville.com
END:VEVENT
BEGIN:VEVENT
DTSTART;TZID=America/Chicago:20250504T100000
DTEND;TZID=America/Chicago:20250504T113000
DTSTAMP:20260425T111108
CREATED:20250523T194530Z
LAST-MODIFIED:20250525T030201Z
UID:25523-1746352800-1746358200@crossingscollinsville.com
SUMMARY:Sunday Morning Church
DESCRIPTION:SUNDAY MORNINGS 10AM @ 2002 MALL STREET COLLINSVILLE IL\nThe Crossings Church Collinsville holds public worship services every Sunday starting at 10AM at 2002 Mall Street in Collinsville\, IL. \n\nCasual dress\nRelevant bible lessons\nChildren’s classes for 5th grade and under\n\nPlan your visit further. Visit our What to Expect page.
URL:https://crossingscollinsville.com/event/sunday-morning-church/
LOCATION:The Crossings Church Collinsville\, 2002 Mall St\, Collinsville\, IL\, 62234\, United States
CATEGORIES:Worship Service
ATTACH;FMTTYPE=image/png:https://crossingscollinsville.com/wp-content/uploads/2025/05/worship-header-scaled.png
ORGANIZER;CN="The Crossings Church Collinsville":MAILTO:admin@crossingscollinsville.com
END:VEVENT
BEGIN:VEVENT
DTSTART;TZID=America/Chicago:20250531T180000
DTEND;TZID=America/Chicago:20250531T200000
DTSTAMP:20260425T111108
CREATED:20250523T201350Z
LAST-MODIFIED:20250526T202108Z
UID:25528-1748714400-1748721600@crossingscollinsville.com
SUMMARY:Nerf & Nachos Kids Event
DESCRIPTION:NERF & NACHOS KIDS’ EVENT\nReady… Aim… CHEESE!\nJoin us for the ultimate showdown of foam darts and flavor at our Nerf & Nachos night! Whether you’re a sharpshooter or just here for the snacks\, this is the perfect evening of organized chaos and cheesy goodness.\nFor all 3rd–8th graders!\nThis event is specially structured so everyone has a blast. We’ll break into age-based groups for battles to keep it fair and fun — and then wrap up the night with an epic free-for-all finale (prepare for Nerf mayhem!).\nWhat’s included?\n\nAction-packed Nerf battles\nA nacho bar piled high with cheesy goodness\nSafe\, structured fun with tons of laughs\nNerf gear provided if you don’t have your own\n\nBring your Nerf blaster\, your appetite\, and your A-game. Invite your friends and get ready for a night you cheddar-member!
URL:https://crossingscollinsville.com/event/nerf-nachos-kids-event/
LOCATION:The Crossings Church Collinsville\, 2002 Mall St\, Collinsville\, IL\, 62234\, United States
CATEGORIES:Children's Ministry
ATTACH;FMTTYPE=image/jpeg:https://crossingscollinsville.com/wp-content/uploads/2025/05/nerf-nachos-crossings-church-collinsville-il-scaled.jpg
ORGANIZER;CN="The Crossings Church Collinsville":MAILTO:admin@crossingscollinsville.com
END:VEVENT
BEGIN:VEVENT
DTSTART;TZID=America/Chicago:20250504T100000
DTEND;TZID=America/Chicago:20250504T113000
DTSTAMP:20260425T111108
CREATED:20250523T194530Z
LAST-MODIFIED:20250525T030201Z
UID:25523-1746352800-1746358200@crossingscollinsville.com
SUMMARY:Sunday Morning Church
DESCRIPTION:SUNDAY MORNINGS 10AM @ 2002 MALL STREET COLLINSVILLE IL\nThe Crossings Church Collinsville holds public worship services every Sunday starting at 10AM at 2002 Mall Street in Collinsville\, IL. \n\nCasual dress\nRelevant bible lessons\nChildren’s classes for 5th grade and under\n\nPlan your visit further. Visit our What to Expect page.
URL:https://crossingscollinsville.com/event/sunday-morning-church/
LOCATION:The Crossings Church Collinsville\, 2002 Mall St\, Collinsville\, IL\, 62234\, United States
CATEGORIES:Worship Service
ATTACH;FMTTYPE=image/png:https://crossingscollinsville.com/wp-content/uploads/2025/05/worship-header-scaled.png
ORGANIZER;CN="The Crossings Church Collinsville":MAILTO:admin@crossingscollinsville.com
END:VEVENT
BEGIN:VEVENT
DTSTART;TZID=America/Chicago:20250504T100000
DTEND;TZID=America/Chicago:20250504T113000
DTSTAMP:20260425T111108
CREATED:20250523T194530Z
LAST-MODIFIED:20250525T030201Z
UID:25523-1746352800-1746358200@crossingscollinsville.com
SUMMARY:Sunday Morning Church
DESCRIPTION:SUNDAY MORNINGS 10AM @ 2002 MALL STREET COLLINSVILLE IL\nThe Crossings Church Collinsville holds public worship services every Sunday starting at 10AM at 2002 Mall Street in Collinsville\, IL. \n\nCasual dress\nRelevant bible lessons\nChildren’s classes for 5th grade and under\n\nPlan your visit further. Visit our What to Expect page.
URL:https://crossingscollinsville.com/event/sunday-morning-church/
LOCATION:The Crossings Church Collinsville\, 2002 Mall St\, Collinsville\, IL\, 62234\, United States
CATEGORIES:Worship Service
ATTACH;FMTTYPE=image/png:https://crossingscollinsville.com/wp-content/uploads/2025/05/worship-header-scaled.png
ORGANIZER;CN="The Crossings Church Collinsville":MAILTO:admin@crossingscollinsville.com
END:VEVENT
BEGIN:VEVENT
DTSTART;TZID=America/Chicago:20250504T100000
DTEND;TZID=America/Chicago:20250504T113000
DTSTAMP:20260425T111108
CREATED:20250523T194530Z
LAST-MODIFIED:20250525T030201Z
UID:25523-1746352800-1746358200@crossingscollinsville.com
SUMMARY:Sunday Morning Church
DESCRIPTION:SUNDAY MORNINGS 10AM @ 2002 MALL STREET COLLINSVILLE IL\nThe Crossings Church Collinsville holds public worship services every Sunday starting at 10AM at 2002 Mall Street in Collinsville\, IL. \n\nCasual dress\nRelevant bible lessons\nChildren’s classes for 5th grade and under\n\nPlan your visit further. Visit our What to Expect page.
URL:https://crossingscollinsville.com/event/sunday-morning-church/
LOCATION:The Crossings Church Collinsville\, 2002 Mall St\, Collinsville\, IL\, 62234\, United States
CATEGORIES:Worship Service
ATTACH;FMTTYPE=image/png:https://crossingscollinsville.com/wp-content/uploads/2025/05/worship-header-scaled.png
ORGANIZER;CN="The Crossings Church Collinsville":MAILTO:admin@crossingscollinsville.com
END:VEVENT
BEGIN:VEVENT
DTSTART;TZID=America/Chicago:20250504T100000
DTEND;TZID=America/Chicago:20250504T113000
DTSTAMP:20260425T111108
CREATED:20250523T194530Z
LAST-MODIFIED:20250525T030201Z
UID:25523-1746352800-1746358200@crossingscollinsville.com
SUMMARY:Sunday Morning Church
DESCRIPTION:SUNDAY MORNINGS 10AM @ 2002 MALL STREET COLLINSVILLE IL\nThe Crossings Church Collinsville holds public worship services every Sunday starting at 10AM at 2002 Mall Street in Collinsville\, IL. \n\nCasual dress\nRelevant bible lessons\nChildren’s classes for 5th grade and under\n\nPlan your visit further. Visit our What to Expect page.
URL:https://crossingscollinsville.com/event/sunday-morning-church/
LOCATION:The Crossings Church Collinsville\, 2002 Mall St\, Collinsville\, IL\, 62234\, United States
CATEGORIES:Worship Service
ATTACH;FMTTYPE=image/png:https://crossingscollinsville.com/wp-content/uploads/2025/05/worship-header-scaled.png
ORGANIZER;CN="The Crossings Church Collinsville":MAILTO:admin@crossingscollinsville.com
END:VEVENT
BEGIN:VEVENT
DTSTART;TZID=America/Chicago:20171231T100000
DTEND;TZID=America/Chicago:20171231T113000
DTSTAMP:20260425T111108
CREATED:20170815T202147Z
LAST-MODIFIED:20170815T202147Z
UID:370-1514714400-1514719800@crossingscollinsville.com
SUMMARY:New Year's Eve Worship
DESCRIPTION:Bring your entire family for a New Year’s Eve worship service at the Doubletree Inn in Collinsville beginning at 10am! Children’s classes are available. \nClick here to get directions to the Doubletree. \nClick here to find out what you can expect at a Crossings Sunday Service.
URL:https://crossingscollinsville.com/event/new-years-eve-worship/
LOCATION:IL
CATEGORIES:Sunday Service
ATTACH;FMTTYPE=image/jpeg:https://crossingscollinsville.com/wp-content/uploads/2017/08/Church-Card-FrontCOL.jpg
ORGANIZER;CN="The Crossings Church Collinsville":MAILTO:admin@crossingscollinsville.com
END:VEVENT
BEGIN:VEVENT
DTSTART;TZID=America/Chicago:20171224T100000
DTEND;TZID=America/Chicago:20171224T113000
DTSTAMP:20260425T111108
CREATED:20170815T202026Z
LAST-MODIFIED:20170815T202026Z
UID:368-1514109600-1514115000@crossingscollinsville.com
SUMMARY:Christmas Eve Service
DESCRIPTION:Bring your entire family for our special Christmas Even worship service at the Doubletree Inn in Collinsville beginning at 10am! Children’s classes are available. \nClick here to get directions to the Doubletree. \nClick here to find out what you can expect at a Crossings Sunday Service.
URL:https://crossingscollinsville.com/event/christmas-eve-service/
LOCATION:IL
CATEGORIES:Sunday Service
ATTACH;FMTTYPE=image/jpeg:https://crossingscollinsville.com/wp-content/uploads/2017/08/Church-Card-FrontCOL.jpg
ORGANIZER;CN="The Crossings Church Collinsville":MAILTO:admin@crossingscollinsville.com
END:VEVENT
BEGIN:VEVENT
DTSTART;TZID=America/Chicago:20171022T080000
DTEND;TZID=America/Chicago:20171022T170000
DTSTAMP:20260425T111108
CREATED:20170815T200804Z
LAST-MODIFIED:20170815T200804Z
UID:352-1508659200-1508691600@crossingscollinsville.com
SUMMARY:Special Sunday Service
DESCRIPTION:Details TBA
URL:https://crossingscollinsville.com/event/special-sunday-service-2/
LOCATION:IL
CATEGORIES:Sunday Service
END:VEVENT
BEGIN:VEVENT
DTSTART;TZID=America/Chicago:20171001T080000
DTEND;TZID=America/Chicago:20171001T170000
DTSTAMP:20260425T111108
CREATED:20170815T204421Z
LAST-MODIFIED:20170815T204421Z
UID:376-1506844800-1506877200@crossingscollinsville.com
SUMMARY:Special Sunday Service
DESCRIPTION:Details TBA
URL:https://crossingscollinsville.com/event/special-sunday-service/
LOCATION:IL
CATEGORIES:Sunday Service
END:VEVENT
BEGIN:VEVENT
DTSTART;TZID=America/Chicago:20170915T190000
DTEND;TZID=America/Chicago:20170916T150000
DTSTAMP:20260425T111108
CREATED:20170815T203128Z
LAST-MODIFIED:20170815T203359Z
UID:372-1505502000-1505574000@crossingscollinsville.com
SUMMARY:Crossings Church Ladies Retreat!
DESCRIPTION:“She is clothed with strength and dignity\, and she laughs without fear of the future” Proverbs 31:25 \nCost: $85 per person (includes t-shirt\, lunch & lodging). \nGet more details on the Ladies Retreat Event Page
URL:https://crossingscollinsville.com/event/crossings-church-ladies-retreat/
LOCATION:IL
CATEGORIES:Retreat
ATTACH;FMTTYPE=image/jpeg:https://crossingscollinsville.com/wp-content/uploads/2017/08/ladies-retreat.jpg
ORGANIZER;CN="The Crossings Church Collinsville":MAILTO:admin@crossingscollinsville.com
END:VEVENT
BEGIN:VEVENT
DTSTART;TZID=America/Chicago:20170910T080000
DTEND;TZID=America/Chicago:20170910T170000
DTSTAMP:20260425T111108
CREATED:20170815T200550Z
LAST-MODIFIED:20170815T204329Z
UID:348-1505030400-1505062800@crossingscollinsville.com
SUMMARY:Special Sunday Service
DESCRIPTION:Details TBA
URL:https://crossingscollinsville.com/event/special-sunday-meeting/
LOCATION:IL
CATEGORIES:Sunday Service
END:VEVENT
BEGIN:VEVENT
DTSTART;TZID=America/Chicago:20170810T180000
DTEND;TZID=America/Chicago:20170810T200000
DTSTAMP:20260425T111108
CREATED:20170705T141138Z
LAST-MODIFIED:20170705T141238Z
UID:249-1502388000-1502395200@crossingscollinsville.com
SUMMARY:Family Block Party
DESCRIPTION:Bring out the whole crew for the family fun night! Inflatables\, ice cream bars\, pop corn\, hot dogs\, face painting\, music\, desserts\, photos with characters and more! To top it all off it’s all FREE\, you don’t want to miss this!
URL:https://crossingscollinsville.com/event/family-block-party/
LOCATION:The Crossings Church Collinsville\, 2002 Mall St\, Collinsville\, IL\, 62234\, United States
CATEGORIES:Family Event
ATTACH;FMTTYPE=image/jpeg:https://crossingscollinsville.com/wp-content/uploads/2017/07/block-party.jpg
END:VEVENT
BEGIN:VEVENT
DTSTART;TZID=America/Chicago:20170806T100000
DTEND;TZID=America/Chicago:20170806T113000
DTSTAMP:20260425T111108
CREATED:20170527T002623Z
LAST-MODIFIED:20170705T141440Z
UID:35-1502013600-1502019000@crossingscollinsville.com
SUMMARY:The Crossings Church Collinsville Launch Sunday!
DESCRIPTION:The Crossings Church Collinsville is a new church serving Collinsville\, IL and the surrounding areas. Formal services are set to begin on Sunday\, August 6\, 2017 at 2002 Mall St\, Collinsville\, IL\, and we’d love for you to join us!
URL:https://crossingscollinsville.com/event/the-crossings-church-collinsville-launch-sunday/
LOCATION:IL
CATEGORIES:Sunday Service
ATTACH;FMTTYPE=image/jpeg:https://crossingscollinsville.com/wp-content/uploads/2017/07/cc.jpg
END:VEVENT
END:VCALENDAR