BEGIN:VCALENDAR
VERSION:2.0
PRODID:-//The Crossings Church Collinsville - ECPv6.15.20//NONSGML v1.0//EN
CALSCALE:GREGORIAN
METHOD:PUBLISH
X-WR-CALNAME:The Crossings Church Collinsville
X-ORIGINAL-URL:https://crossingscollinsville.com
X-WR-CALDESC:Events for The Crossings Church Collinsville
REFRESH-INTERVAL;VALUE=DURATION:PT1H
X-Robots-Tag:noindex
X-PUBLISHED-TTL:PT1H
BEGIN:VTIMEZONE
TZID:America/Chicago
BEGIN:DAYLIGHT
TZOFFSETFROM:-0600
TZOFFSETTO:-0500
TZNAME:CDT
DTSTART:20160313T080000
END:DAYLIGHT
BEGIN:STANDARD
TZOFFSETFROM:-0500
TZOFFSETTO:-0600
TZNAME:CST
DTSTART:20161106T070000
END:STANDARD
BEGIN:DAYLIGHT
TZOFFSETFROM:-0600
TZOFFSETTO:-0500
TZNAME:CDT
DTSTART:20170312T080000
END:DAYLIGHT
BEGIN:STANDARD
TZOFFSETFROM:-0500
TZOFFSETTO:-0600
TZNAME:CST
DTSTART:20171105T070000
END:STANDARD
BEGIN:DAYLIGHT
TZOFFSETFROM:-0600
TZOFFSETTO:-0500
TZNAME:CDT
DTSTART:20180311T080000
END:DAYLIGHT
BEGIN:STANDARD
TZOFFSETFROM:-0500
TZOFFSETTO:-0600
TZNAME:CST
DTSTART:20181104T070000
END:STANDARD
END:VTIMEZONE
BEGIN:VEVENT
DTSTART;TZID=America/Chicago:20171224T100000
DTEND;TZID=America/Chicago:20171224T113000
DTSTAMP:20260422T165714
CREATED:20170815T202026Z
LAST-MODIFIED:20170815T202026Z
UID:368-1514109600-1514115000@crossingscollinsville.com
SUMMARY:Christmas Eve Service
DESCRIPTION:Bring your entire family for our special Christmas Even worship service at the Doubletree Inn in Collinsville beginning at 10am! Children’s classes are available. \nClick here to get directions to the Doubletree. \nClick here to find out what you can expect at a Crossings Sunday Service.
URL:https://crossingscollinsville.com/event/christmas-eve-service/
CATEGORIES:Sunday Service
ATTACH;FMTTYPE=image/jpeg:https://crossingscollinsville.com/wp-content/uploads/2017/08/Church-Card-FrontCOL.jpg
ORGANIZER;CN="The Crossings Church Collinsville":MAILTO:admin@crossingscollinsville.com
END:VEVENT
BEGIN:VEVENT
DTSTART;TZID=America/Chicago:20171231T100000
DTEND;TZID=America/Chicago:20171231T113000
DTSTAMP:20260422T165714
CREATED:20170815T202147Z
LAST-MODIFIED:20170815T202147Z
UID:370-1514714400-1514719800@crossingscollinsville.com
SUMMARY:New Year's Eve Worship
DESCRIPTION:Bring your entire family for a New Year’s Eve worship service at the Doubletree Inn in Collinsville beginning at 10am! Children’s classes are available. \nClick here to get directions to the Doubletree. \nClick here to find out what you can expect at a Crossings Sunday Service.
URL:https://crossingscollinsville.com/event/new-years-eve-worship/
CATEGORIES:Sunday Service
ATTACH;FMTTYPE=image/jpeg:https://crossingscollinsville.com/wp-content/uploads/2017/08/Church-Card-FrontCOL.jpg
ORGANIZER;CN="The Crossings Church Collinsville":MAILTO:admin@crossingscollinsville.com
END:VEVENT
END:VCALENDAR