BEGIN:VCALENDAR
VERSION:2.0
PRODID:-//The Crossings Church Collinsville - ECPv6.15.20//NONSGML v1.0//EN
CALSCALE:GREGORIAN
METHOD:PUBLISH
X-WR-CALNAME:The Crossings Church Collinsville
X-ORIGINAL-URL:https://crossingscollinsville.com
X-WR-CALDESC:Events for The Crossings Church Collinsville
REFRESH-INTERVAL;VALUE=DURATION:PT1H
X-Robots-Tag:noindex
X-PUBLISHED-TTL:PT1H
BEGIN:VTIMEZONE
TZID:America/Chicago
BEGIN:DAYLIGHT
TZOFFSETFROM:-0600
TZOFFSETTO:-0500
TZNAME:CDT
DTSTART:20160313T080000
END:DAYLIGHT
BEGIN:STANDARD
TZOFFSETFROM:-0500
TZOFFSETTO:-0600
TZNAME:CST
DTSTART:20161106T070000
END:STANDARD
BEGIN:DAYLIGHT
TZOFFSETFROM:-0600
TZOFFSETTO:-0500
TZNAME:CDT
DTSTART:20170312T080000
END:DAYLIGHT
BEGIN:STANDARD
TZOFFSETFROM:-0500
TZOFFSETTO:-0600
TZNAME:CST
DTSTART:20171105T070000
END:STANDARD
BEGIN:DAYLIGHT
TZOFFSETFROM:-0600
TZOFFSETTO:-0500
TZNAME:CDT
DTSTART:20180311T080000
END:DAYLIGHT
BEGIN:STANDARD
TZOFFSETFROM:-0500
TZOFFSETTO:-0600
TZNAME:CST
DTSTART:20181104T070000
END:STANDARD
END:VTIMEZONE
BEGIN:VEVENT
DTSTART;TZID=America/Chicago:20170810T180000
DTEND;TZID=America/Chicago:20170810T200000
DTSTAMP:20260423T100827
CREATED:20170705T141138Z
LAST-MODIFIED:20170705T141238Z
UID:249-1502388000-1502395200@crossingscollinsville.com
SUMMARY:Family Block Party
DESCRIPTION:Bring out the whole crew for the family fun night! Inflatables\, ice cream bars\, pop corn\, hot dogs\, face painting\, music\, desserts\, photos with characters and more! To top it all off it’s all FREE\, you don’t want to miss this!
URL:https://crossingscollinsville.com/event/family-block-party/
LOCATION:The Crossings Church Collinsville\, 2002 Mall St\, Collinsville\, IL\, 62234\, United States
CATEGORIES:Family Event
ATTACH;FMTTYPE=image/jpeg:https://crossingscollinsville.com/wp-content/uploads/2017/07/block-party.jpg
END:VEVENT
END:VCALENDAR